BEGIN:VCALENDAR
VERSION:2.0
PRODID:-//Schachclub 1947 Beilngries e.V. - ECPv6.15.20//NONSGML v1.0//EN
CALSCALE:GREGORIAN
METHOD:PUBLISH
X-ORIGINAL-URL:http://schachclub-beilngries.de
X-WR-CALDESC:Veranstaltungen für Schachclub 1947 Beilngries e.V.
REFRESH-INTERVAL;VALUE=DURATION:PT1H
X-Robots-Tag:noindex
X-PUBLISHED-TTL:PT1H
BEGIN:VTIMEZONE
TZID:Europe/Paris
BEGIN:DAYLIGHT
TZOFFSETFROM:+0100
TZOFFSETTO:+0200
TZNAME:CEST
DTSTART:20250330T010000
END:DAYLIGHT
BEGIN:STANDARD
TZOFFSETFROM:+0200
TZOFFSETTO:+0100
TZNAME:CET
DTSTART:20251026T010000
END:STANDARD
BEGIN:DAYLIGHT
TZOFFSETFROM:+0100
TZOFFSETTO:+0200
TZNAME:CEST
DTSTART:20260329T010000
END:DAYLIGHT
BEGIN:STANDARD
TZOFFSETFROM:+0200
TZOFFSETTO:+0100
TZNAME:CET
DTSTART:20261025T010000
END:STANDARD
BEGIN:DAYLIGHT
TZOFFSETFROM:+0100
TZOFFSETTO:+0200
TZNAME:CEST
DTSTART:20270328T010000
END:DAYLIGHT
BEGIN:STANDARD
TZOFFSETFROM:+0200
TZOFFSETTO:+0100
TZNAME:CET
DTSTART:20271031T010000
END:STANDARD
END:VTIMEZONE
BEGIN:VEVENT
DTSTART;TZID=Europe/Paris:20260703T200000
DTEND;TZID=Europe/Paris:20260703T233000
DTSTAMP:20260422T061131
CREATED:20260318T121916Z
LAST-MODIFIED:20260318T121916Z
UID:3585-1783108800-1783121400@schachclub-beilngries.de
SUMMARY:Vereinsmeisterschaft 11. Runde
DESCRIPTION:
URL:http://schachclub-beilngries.de/veranstaltung/vereinsmeisterschaft-11-runde/
END:VEVENT
BEGIN:VEVENT
DTSTART;TZID=Europe/Paris:20260710T200000
DTEND;TZID=Europe/Paris:20260710T233000
DTSTAMP:20260422T061131
CREATED:20260318T122257Z
LAST-MODIFIED:20260318T122257Z
UID:3593-1783713600-1783726200@schachclub-beilngries.de
SUMMARY:Monatsblitz
DESCRIPTION:
URL:http://schachclub-beilngries.de/veranstaltung/monatsblitz-17/
END:VEVENT
BEGIN:VEVENT
DTSTART;TZID=Europe/Paris:20260717T080000
DTEND;TZID=Europe/Paris:20260717T170000
DTSTAMP:20260422T061131
CREATED:20260318T122340Z
LAST-MODIFIED:20260318T122340Z
UID:3595-1784275200-1784307600@schachclub-beilngries.de
SUMMARY:Schnellschach VM
DESCRIPTION:
URL:http://schachclub-beilngries.de/veranstaltung/schnellschach-vm-2/
END:VEVENT
BEGIN:VEVENT
DTSTART;TZID=Europe/Paris:20260731T080000
DTEND;TZID=Europe/Paris:20260731T170000
DTSTAMP:20260422T061131
CREATED:20260318T122419Z
LAST-MODIFIED:20260318T122419Z
UID:3597-1785484800-1785517200@schachclub-beilngries.de
SUMMARY:Saisonabschluss
DESCRIPTION:
URL:http://schachclub-beilngries.de/veranstaltung/saisonabschluss/
END:VEVENT
END:VCALENDAR