BEGIN:VCALENDAR
VERSION:2.0
PRODID:-//Schachclub 1947 Beilngries e.V. - ECPv6.15.20//NONSGML v1.0//EN
CALSCALE:GREGORIAN
METHOD:PUBLISH
X-ORIGINAL-URL:http://schachclub-beilngries.de
X-WR-CALDESC:Veranstaltungen für Schachclub 1947 Beilngries e.V.
REFRESH-INTERVAL;VALUE=DURATION:PT1H
X-Robots-Tag:noindex
X-PUBLISHED-TTL:PT1H
BEGIN:VTIMEZONE
TZID:Europe/Paris
BEGIN:DAYLIGHT
TZOFFSETFROM:+0100
TZOFFSETTO:+0200
TZNAME:CEST
DTSTART:20250330T010000
END:DAYLIGHT
BEGIN:STANDARD
TZOFFSETFROM:+0200
TZOFFSETTO:+0100
TZNAME:CET
DTSTART:20251026T010000
END:STANDARD
BEGIN:DAYLIGHT
TZOFFSETFROM:+0100
TZOFFSETTO:+0200
TZNAME:CEST
DTSTART:20260329T010000
END:DAYLIGHT
BEGIN:STANDARD
TZOFFSETFROM:+0200
TZOFFSETTO:+0100
TZNAME:CET
DTSTART:20261025T010000
END:STANDARD
BEGIN:DAYLIGHT
TZOFFSETFROM:+0100
TZOFFSETTO:+0200
TZNAME:CEST
DTSTART:20270328T010000
END:DAYLIGHT
BEGIN:STANDARD
TZOFFSETFROM:+0200
TZOFFSETTO:+0100
TZNAME:CET
DTSTART:20271031T010000
END:STANDARD
END:VTIMEZONE
BEGIN:VEVENT
DTSTART;TZID=Europe/Paris:20260612T080000
DTEND;TZID=Europe/Paris:20260612T170000
DTSTAMP:20260422T043458
CREATED:20260318T121654Z
LAST-MODIFIED:20260318T121654Z
UID:3581-1781251200-1781283600@schachclub-beilngries.de
SUMMARY:Vereinsmeisterschaft 9. Runde
DESCRIPTION:
URL:http://schachclub-beilngries.de/veranstaltung/vereinsmeisterschaft-9-runde/
END:VEVENT
BEGIN:VEVENT
DTSTART;TZID=Europe/Paris:20260619T200000
DTEND;TZID=Europe/Paris:20260619T233000
DTSTAMP:20260422T043458
CREATED:20260318T121801Z
LAST-MODIFIED:20260318T121801Z
UID:3583-1781899200-1781911800@schachclub-beilngries.de
SUMMARY:Vereinsmeisterschaft 10. Runde
DESCRIPTION:
URL:http://schachclub-beilngries.de/veranstaltung/vereinsmeisterschaft-10-runde/
END:VEVENT
BEGIN:VEVENT
DTSTART;TZID=Europe/Paris:20260626T200000
DTEND;TZID=Europe/Paris:20260626T233000
DTSTAMP:20260422T043458
CREATED:20260318T122214Z
LAST-MODIFIED:20260318T122214Z
UID:3591-1782504000-1782516600@schachclub-beilngries.de
SUMMARY:Monatsblitz
DESCRIPTION:
URL:http://schachclub-beilngries.de/veranstaltung/monatsblitz-16/
END:VEVENT
END:VCALENDAR