BEGIN:VCALENDAR
VERSION:2.0
PRODID:-//Schachclub 1947 Beilngries e.V. - ECPv6.15.20//NONSGML v1.0//EN
CALSCALE:GREGORIAN
METHOD:PUBLISH
X-ORIGINAL-URL:http://schachclub-beilngries.de
X-WR-CALDESC:Veranstaltungen für Schachclub 1947 Beilngries e.V.
REFRESH-INTERVAL;VALUE=DURATION:PT1H
X-Robots-Tag:noindex
X-PUBLISHED-TTL:PT1H
BEGIN:VTIMEZONE
TZID:Europe/Paris
BEGIN:DAYLIGHT
TZOFFSETFROM:+0100
TZOFFSETTO:+0200
TZNAME:CEST
DTSTART:20240331T010000
END:DAYLIGHT
BEGIN:STANDARD
TZOFFSETFROM:+0200
TZOFFSETTO:+0100
TZNAME:CET
DTSTART:20241027T010000
END:STANDARD
BEGIN:DAYLIGHT
TZOFFSETFROM:+0100
TZOFFSETTO:+0200
TZNAME:CEST
DTSTART:20250330T010000
END:DAYLIGHT
BEGIN:STANDARD
TZOFFSETFROM:+0200
TZOFFSETTO:+0100
TZNAME:CET
DTSTART:20251026T010000
END:STANDARD
BEGIN:DAYLIGHT
TZOFFSETFROM:+0100
TZOFFSETTO:+0200
TZNAME:CEST
DTSTART:20260329T010000
END:DAYLIGHT
BEGIN:STANDARD
TZOFFSETFROM:+0200
TZOFFSETTO:+0100
TZNAME:CET
DTSTART:20261025T010000
END:STANDARD
END:VTIMEZONE
BEGIN:VEVENT
DTSTART;TZID=Europe/Paris:20251107T200000
DTEND;TZID=Europe/Paris:20251107T233000
DTSTAMP:20260422T100126
CREATED:20251021T074338Z
LAST-MODIFIED:20251021T074338Z
UID:3463-1762545600-1762558200@schachclub-beilngries.de
SUMMARY:Herbstferiene
DESCRIPTION:
URL:http://schachclub-beilngries.de/veranstaltung/herbstferiene/
END:VEVENT
BEGIN:VEVENT
DTSTART;TZID=Europe/Paris:20251114T200000
DTEND;TZID=Europe/Paris:20251114T233000
DTSTAMP:20260422T100126
CREATED:20251021T074532Z
LAST-MODIFIED:20251021T074532Z
UID:3465-1763150400-1763163000@schachclub-beilngries.de
SUMMARY:Monatsbliz 3
DESCRIPTION:
URL:http://schachclub-beilngries.de/veranstaltung/monatsbliz-3/
END:VEVENT
BEGIN:VEVENT
DTSTART;TZID=Europe/Paris:20251121T200000
DTEND;TZID=Europe/Paris:20251121T233000
DTSTAMP:20260422T100126
CREATED:20251021T073918Z
LAST-MODIFIED:20251021T073918Z
UID:3457-1763755200-1763767800@schachclub-beilngries.de
SUMMARY:Stadtmeisterschaft 3. Runde
DESCRIPTION:
URL:http://schachclub-beilngries.de/veranstaltung/stadtmeisterschaft-3-runde-4/
END:VEVENT
BEGIN:VEVENT
DTSTART;TZID=Europe/Paris:20251128T200000
DTEND;TZID=Europe/Paris:20251128T233000
DTSTAMP:20260422T100126
CREATED:20251021T073740Z
LAST-MODIFIED:20251021T073740Z
UID:3453-1764360000-1764372600@schachclub-beilngries.de
SUMMARY:Stadtmeisterschaft Nachholpartien
DESCRIPTION:
URL:http://schachclub-beilngries.de/veranstaltung/stadtmeisterschaft-nachholpartien-11/
END:VEVENT
END:VCALENDAR