BEGIN:VCALENDAR
VERSION:2.0
PRODID:-//Schachclub 1947 Beilngries e.V. - ECPv6.15.20//NONSGML v1.0//EN
CALSCALE:GREGORIAN
METHOD:PUBLISH
X-ORIGINAL-URL:http://schachclub-beilngries.de
X-WR-CALDESC:Veranstaltungen für Schachclub 1947 Beilngries e.V.
REFRESH-INTERVAL;VALUE=DURATION:PT1H
X-Robots-Tag:noindex
X-PUBLISHED-TTL:PT1H
BEGIN:VTIMEZONE
TZID:Europe/Paris
BEGIN:DAYLIGHT
TZOFFSETFROM:+0100
TZOFFSETTO:+0200
TZNAME:CEST
DTSTART:20240331T010000
END:DAYLIGHT
BEGIN:STANDARD
TZOFFSETFROM:+0200
TZOFFSETTO:+0100
TZNAME:CET
DTSTART:20241027T010000
END:STANDARD
BEGIN:DAYLIGHT
TZOFFSETFROM:+0100
TZOFFSETTO:+0200
TZNAME:CEST
DTSTART:20250330T010000
END:DAYLIGHT
BEGIN:STANDARD
TZOFFSETFROM:+0200
TZOFFSETTO:+0100
TZNAME:CET
DTSTART:20251026T010000
END:STANDARD
BEGIN:DAYLIGHT
TZOFFSETFROM:+0100
TZOFFSETTO:+0200
TZNAME:CEST
DTSTART:20260329T010000
END:DAYLIGHT
BEGIN:STANDARD
TZOFFSETFROM:+0200
TZOFFSETTO:+0100
TZNAME:CET
DTSTART:20261025T010000
END:STANDARD
END:VTIMEZONE
BEGIN:VEVENT
DTSTART;TZID=Europe/Paris:20250502T200000
DTEND;TZID=Europe/Paris:20250502T233000
DTSTAMP:20260422T201252
CREATED:20250204T111014Z
LAST-MODIFIED:20250204T111014Z
UID:3313-1746216000-1746228600@schachclub-beilngries.de
SUMMARY:Monatsblitz 9
DESCRIPTION:
URL:http://schachclub-beilngries.de/veranstaltung/monatsblitz-9-2/
END:VEVENT
BEGIN:VEVENT
DTSTART;TZID=Europe/Paris:20250509T200000
DTEND;TZID=Europe/Paris:20250509T233000
DTSTAMP:20260422T201252
CREATED:20250204T110203Z
LAST-MODIFIED:20250204T110203Z
UID:3295-1746820800-1746833400@schachclub-beilngries.de
SUMMARY:Vereinsmeisterschaft Runde 7
DESCRIPTION:
URL:http://schachclub-beilngries.de/veranstaltung/vereinsmeisterschaft-runde-7-3/
END:VEVENT
BEGIN:VEVENT
DTSTART;TZID=Europe/Paris:20250516T200000
DTEND;TZID=Europe/Paris:20250516T233000
DTSTAMP:20260422T201252
CREATED:20250204T110252Z
LAST-MODIFIED:20250204T110252Z
UID:3297-1747425600-1747438200@schachclub-beilngries.de
SUMMARY:Vereinsmeisterschaft Runde 8
DESCRIPTION:
URL:http://schachclub-beilngries.de/veranstaltung/vereinsmeisterschaft-runde-8-3/
END:VEVENT
BEGIN:VEVENT
DTSTART;TZID=Europe/Paris:20250523T200000
DTEND;TZID=Europe/Paris:20250523T233000
DTSTAMP:20260422T201252
CREATED:20250204T110337Z
LAST-MODIFIED:20250204T110337Z
UID:3299-1748030400-1748043000@schachclub-beilngries.de
SUMMARY:Vereinsmeisterschaft Runde 9
DESCRIPTION:
URL:http://schachclub-beilngries.de/veranstaltung/vereinsmeisterschaft-runde-9-3/
END:VEVENT
BEGIN:VEVENT
DTSTART;TZID=Europe/Paris:20250530T200000
DTEND;TZID=Europe/Paris:20250530T233000
DTSTAMP:20260422T201252
CREATED:20250204T110444Z
LAST-MODIFIED:20250204T110444Z
UID:3301-1748635200-1748647800@schachclub-beilngries.de
SUMMARY:Vereinsmeisterschaft Nachholpartien
DESCRIPTION:
URL:http://schachclub-beilngries.de/veranstaltung/vereinsmeisterschaft-nachholpartien-2/
END:VEVENT
END:VCALENDAR