BEGIN:VCALENDAR
VERSION:2.0
PRODID:-//Schachclub 1947 Beilngries e.V. - ECPv6.15.20//NONSGML v1.0//EN
CALSCALE:GREGORIAN
METHOD:PUBLISH
X-ORIGINAL-URL:http://schachclub-beilngries.de
X-WR-CALDESC:Veranstaltungen für Schachclub 1947 Beilngries e.V.
REFRESH-INTERVAL;VALUE=DURATION:PT1H
X-Robots-Tag:noindex
X-PUBLISHED-TTL:PT1H
BEGIN:VTIMEZONE
TZID:Europe/Paris
BEGIN:DAYLIGHT
TZOFFSETFROM:+0100
TZOFFSETTO:+0200
TZNAME:CEST
DTSTART:20240331T010000
END:DAYLIGHT
BEGIN:STANDARD
TZOFFSETFROM:+0200
TZOFFSETTO:+0100
TZNAME:CET
DTSTART:20241027T010000
END:STANDARD
BEGIN:DAYLIGHT
TZOFFSETFROM:+0100
TZOFFSETTO:+0200
TZNAME:CEST
DTSTART:20250330T010000
END:DAYLIGHT
BEGIN:STANDARD
TZOFFSETFROM:+0200
TZOFFSETTO:+0100
TZNAME:CET
DTSTART:20251026T010000
END:STANDARD
BEGIN:DAYLIGHT
TZOFFSETFROM:+0100
TZOFFSETTO:+0200
TZNAME:CEST
DTSTART:20260329T010000
END:DAYLIGHT
BEGIN:STANDARD
TZOFFSETFROM:+0200
TZOFFSETTO:+0100
TZNAME:CET
DTSTART:20261025T010000
END:STANDARD
END:VTIMEZONE
BEGIN:VEVENT
DTSTART;TZID=Europe/Paris:20250404T200000
DTEND;TZID=Europe/Paris:20250404T233000
DTSTAMP:20260422T215345
CREATED:20250204T110926Z
LAST-MODIFIED:20250204T110926Z
UID:3311-1743796800-1743809400@schachclub-beilngries.de
SUMMARY:Monatsblitz 8
DESCRIPTION:
URL:http://schachclub-beilngries.de/veranstaltung/monatsblitz-8-2/
END:VEVENT
BEGIN:VEVENT
DTSTART;TZID=Europe/Paris:20250406T080000
DTEND;TZID=Europe/Paris:20250406T130000
DTSTAMP:20260422T215345
CREATED:20240821T065923Z
LAST-MODIFIED:20240916T050943Z
UID:3008-1743926400-1743944400@schachclub-beilngries.de
SUMMARY:SK Ingolstadt - SC 1947 Beilngries
DESCRIPTION:
URL:http://schachclub-beilngries.de/veranstaltung/vorlaeufiger-spieltag-fuer-mannschaftskampf-8/
END:VEVENT
BEGIN:VEVENT
DTSTART;TZID=Europe/Paris:20250406T090000
DTEND;TZID=Europe/Paris:20250406T130000
DTSTAMP:20260422T215345
CREATED:20240916T051859Z
LAST-MODIFIED:20240919T044804Z
UID:3059-1743930000-1743944400@schachclub-beilngries.de
SUMMARY:SC 1947 Beilngries 2 - Schachclub Eichstätt 1921 e.V
DESCRIPTION:
URL:http://schachclub-beilngries.de/veranstaltung/sc-1947-beilngries-2-sk-freising-3/
END:VEVENT
BEGIN:VEVENT
DTSTART;TZID=Europe/Paris:20250411T200000
DTEND;TZID=Europe/Paris:20250411T233000
DTSTAMP:20260422T215345
CREATED:20250204T110104Z
LAST-MODIFIED:20250204T110104Z
UID:3293-1744401600-1744414200@schachclub-beilngries.de
SUMMARY:Vereinsmeisterschaft Runde 6
DESCRIPTION:
URL:http://schachclub-beilngries.de/veranstaltung/vereinsmeisterschaft-runde-6-3/
END:VEVENT
END:VCALENDAR