BEGIN:VCALENDAR
VERSION:2.0
PRODID:-//Schachclub 1947 Beilngries e.V. - ECPv6.15.20//NONSGML v1.0//EN
CALSCALE:GREGORIAN
METHOD:PUBLISH
X-WR-CALNAME:Schachclub 1947 Beilngries e.V.
X-ORIGINAL-URL:http://schachclub-beilngries.de
X-WR-CALDESC:Veranstaltungen für Schachclub 1947 Beilngries e.V.
REFRESH-INTERVAL;VALUE=DURATION:PT1H
X-Robots-Tag:noindex
X-PUBLISHED-TTL:PT1H
BEGIN:VTIMEZONE
TZID:Europe/Paris
BEGIN:DAYLIGHT
TZOFFSETFROM:+0100
TZOFFSETTO:+0200
TZNAME:CEST
DTSTART:20240331T010000
END:DAYLIGHT
BEGIN:STANDARD
TZOFFSETFROM:+0200
TZOFFSETTO:+0100
TZNAME:CET
DTSTART:20241027T010000
END:STANDARD
BEGIN:DAYLIGHT
TZOFFSETFROM:+0100
TZOFFSETTO:+0200
TZNAME:CEST
DTSTART:20250330T010000
END:DAYLIGHT
BEGIN:STANDARD
TZOFFSETFROM:+0200
TZOFFSETTO:+0100
TZNAME:CET
DTSTART:20251026T010000
END:STANDARD
BEGIN:DAYLIGHT
TZOFFSETFROM:+0100
TZOFFSETTO:+0200
TZNAME:CEST
DTSTART:20260329T010000
END:DAYLIGHT
BEGIN:STANDARD
TZOFFSETFROM:+0200
TZOFFSETTO:+0100
TZNAME:CET
DTSTART:20261025T010000
END:STANDARD
END:VTIMEZONE
BEGIN:VEVENT
DTSTART;TZID=Europe/Paris:20250314T200000
DTEND;TZID=Europe/Paris:20250314T233000
DTSTAMP:20260422T234147
CREATED:20250204T105832Z
LAST-MODIFIED:20250204T105832Z
UID:3289-1741982400-1741995000@schachclub-beilngries.de
SUMMARY:Vereinsmeisterschaft Runde 4
DESCRIPTION:
URL:http://schachclub-beilngries.de/veranstaltung/vereinsmeisterschaft-runde-4-2/
END:VEVENT
BEGIN:VEVENT
DTSTART;TZID=Europe/Paris:20250321T200000
DTEND;TZID=Europe/Paris:20250321T233000
DTSTAMP:20260422T234147
CREATED:20250204T110848Z
LAST-MODIFIED:20250204T110848Z
UID:3309-1742587200-1742599800@schachclub-beilngries.de
SUMMARY:Monatsblitz 7
DESCRIPTION:
URL:http://schachclub-beilngries.de/veranstaltung/monatsblitz-7-2/
END:VEVENT
BEGIN:VEVENT
DTSTART;TZID=Europe/Paris:20250323T080000
DTEND;TZID=Europe/Paris:20250323T130000
DTSTAMP:20260422T234147
CREATED:20240916T051744Z
LAST-MODIFIED:20240919T044718Z
UID:3057-1742716800-1742734800@schachclub-beilngries.de
SUMMARY:TSV Rohrbach - SC 1947 Beilngries 2
DESCRIPTION:
URL:http://schachclub-beilngries.de/veranstaltung/schachclub-eichstaett-1921-e-v-sc-1947-beilngries-2/
END:VEVENT
BEGIN:VEVENT
DTSTART;TZID=Europe/Paris:20250323T090000
DTEND;TZID=Europe/Paris:20250323T130000
DTSTAMP:20260422T234147
CREATED:20240821T065841Z
LAST-MODIFIED:20240919T043743Z
UID:3006-1742720400-1742734800@schachclub-beilngries.de
SUMMARY:SC 1947 Beilngries - SK Neuburg 2
DESCRIPTION:
URL:http://schachclub-beilngries.de/veranstaltung/vorlaeufiger-spieltag-fuer-mannschaftskampf-7/
END:VEVENT
BEGIN:VEVENT
DTSTART;TZID=Europe/Paris:20250328T200000
DTEND;TZID=Europe/Paris:20250328T233000
DTSTAMP:20260422T234147
CREATED:20250204T110006Z
LAST-MODIFIED:20250204T110006Z
UID:3291-1743192000-1743204600@schachclub-beilngries.de
SUMMARY:Vereinsmeisterschaft Runde 5
DESCRIPTION:
URL:http://schachclub-beilngries.de/veranstaltung/vereinsmeisterschaft-runde-5-3/
END:VEVENT
END:VCALENDAR