BEGIN:VCALENDAR
VERSION:2.0
PRODID:-//Schachclub 1947 Beilngries e.V. - ECPv6.15.20//NONSGML v1.0//EN
CALSCALE:GREGORIAN
METHOD:PUBLISH
X-WR-CALNAME:Schachclub 1947 Beilngries e.V.
X-ORIGINAL-URL:http://schachclub-beilngries.de
X-WR-CALDESC:Veranstaltungen für Schachclub 1947 Beilngries e.V.
REFRESH-INTERVAL;VALUE=DURATION:PT1H
X-Robots-Tag:noindex
X-PUBLISHED-TTL:PT1H
BEGIN:VTIMEZONE
TZID:Europe/Paris
BEGIN:DAYLIGHT
TZOFFSETFROM:+0100
TZOFFSETTO:+0200
TZNAME:CEST
DTSTART:20240331T010000
END:DAYLIGHT
BEGIN:STANDARD
TZOFFSETFROM:+0200
TZOFFSETTO:+0100
TZNAME:CET
DTSTART:20241027T010000
END:STANDARD
BEGIN:DAYLIGHT
TZOFFSETFROM:+0100
TZOFFSETTO:+0200
TZNAME:CEST
DTSTART:20250330T010000
END:DAYLIGHT
BEGIN:STANDARD
TZOFFSETFROM:+0200
TZOFFSETTO:+0100
TZNAME:CET
DTSTART:20251026T010000
END:STANDARD
BEGIN:DAYLIGHT
TZOFFSETFROM:+0100
TZOFFSETTO:+0200
TZNAME:CEST
DTSTART:20260329T010000
END:DAYLIGHT
BEGIN:STANDARD
TZOFFSETFROM:+0200
TZOFFSETTO:+0100
TZNAME:CET
DTSTART:20261025T010000
END:STANDARD
END:VTIMEZONE
BEGIN:VEVENT
DTSTART;TZID=Europe/Paris:20250202T080000
DTEND;TZID=Europe/Paris:20250202T130000
DTSTAMP:20260423T013324
CREATED:20240916T051556Z
LAST-MODIFIED:20240919T044449Z
UID:3053-1738483200-1738501200@schachclub-beilngries.de
SUMMARY:SV Ilmmünster 3 - SC 1947 Beilngries 2
DESCRIPTION:
URL:http://schachclub-beilngries.de/veranstaltung/sc-moosburg-1956-e-v-2-sc-1947-beilngries-2/
END:VEVENT
BEGIN:VEVENT
DTSTART;TZID=Europe/Paris:20250202T090000
DTEND;TZID=Europe/Paris:20250202T130000
DTSTAMP:20260423T013324
CREATED:20240821T065655Z
LAST-MODIFIED:20240919T043549Z
UID:3002-1738486800-1738501200@schachclub-beilngries.de
SUMMARY:SC 1947 Beilngries - TSV 1897 Kösching
DESCRIPTION:
URL:http://schachclub-beilngries.de/veranstaltung/vorlaeufiger-spieltag-fuer-mannschaftskampf-5/
END:VEVENT
BEGIN:VEVENT
DTSTART;TZID=Europe/Paris:20250207T200000
DTEND;TZID=Europe/Paris:20250207T233000
DTSTAMP:20260423T013324
CREATED:20250204T105531Z
LAST-MODIFIED:20250204T105531Z
UID:3283-1738958400-1738971000@schachclub-beilngries.de
SUMMARY:Vereinsmeisterschaft Runde 1.
DESCRIPTION:
URL:http://schachclub-beilngries.de/veranstaltung/vereinsmeisterschaft-runde-1/
END:VEVENT
BEGIN:VEVENT
DTSTART;TZID=Europe/Paris:20250214T200000
DTEND;TZID=Europe/Paris:20250214T233000
DTSTAMP:20260423T013324
CREATED:20250204T110809Z
LAST-MODIFIED:20250204T110809Z
UID:3307-1739563200-1739575800@schachclub-beilngries.de
SUMMARY:Monatsblitz 6
DESCRIPTION:
URL:http://schachclub-beilngries.de/veranstaltung/monatsblitz-6-2/
END:VEVENT
BEGIN:VEVENT
DTSTART;TZID=Europe/Paris:20250221T200000
DTEND;TZID=Europe/Paris:20250221T233000
DTSTAMP:20260423T013324
CREATED:20250204T105654Z
LAST-MODIFIED:20250204T105654Z
UID:3285-1740168000-1740180600@schachclub-beilngries.de
SUMMARY:Vereinsmeisterschaft Runde 2
DESCRIPTION:
URL:http://schachclub-beilngries.de/veranstaltung/vereinsmeisterschaft-runde-2-4/
END:VEVENT
BEGIN:VEVENT
DTSTART;TZID=Europe/Paris:20250223T080000
DTEND;TZID=Europe/Paris:20250223T130000
DTSTAMP:20260423T013324
CREATED:20240821T065739Z
LAST-MODIFIED:20240919T043653Z
UID:3004-1740297600-1740315600@schachclub-beilngries.de
SUMMARY:SK Freising 2 - SC 1947 Beilngries
DESCRIPTION:
URL:http://schachclub-beilngries.de/veranstaltung/vorlaeufiger-spieltag-fuer-mannschaftskampf-6/
END:VEVENT
BEGIN:VEVENT
DTSTART;TZID=Europe/Paris:20250223T090000
DTEND;TZID=Europe/Paris:20250223T130000
DTSTAMP:20260423T013324
CREATED:20240916T051650Z
LAST-MODIFIED:20240919T044606Z
UID:3055-1740301200-1740315600@schachclub-beilngries.de
SUMMARY:SC 1947 Beilngries 2 - SC Moosburg 1956 e.V. 2
DESCRIPTION:
URL:http://schachclub-beilngries.de/veranstaltung/sc-1947-beilngries-2-tsv-rohrbach/
END:VEVENT
BEGIN:VEVENT
DTSTART;TZID=Europe/Paris:20250228T200000
DTEND;TZID=Europe/Paris:20250228T233000
DTSTAMP:20260423T013324
CREATED:20250204T105738Z
LAST-MODIFIED:20250204T105738Z
UID:3287-1740772800-1740785400@schachclub-beilngries.de
SUMMARY:Vereinsmeisterschaft Runde 3
DESCRIPTION:
URL:http://schachclub-beilngries.de/veranstaltung/vereinsmeisterschaft-runde-3-3/
END:VEVENT
END:VCALENDAR