BEGIN:VCALENDAR
VERSION:2.0
PRODID:-//Schachclub 1947 Beilngries e.V. - ECPv6.15.20//NONSGML v1.0//EN
CALSCALE:GREGORIAN
METHOD:PUBLISH
X-WR-CALNAME:Schachclub 1947 Beilngries e.V.
X-ORIGINAL-URL:http://schachclub-beilngries.de
X-WR-CALDESC:Veranstaltungen für Schachclub 1947 Beilngries e.V.
REFRESH-INTERVAL;VALUE=DURATION:PT1H
X-Robots-Tag:noindex
X-PUBLISHED-TTL:PT1H
BEGIN:VTIMEZONE
TZID:Europe/Paris
BEGIN:DAYLIGHT
TZOFFSETFROM:+0100
TZOFFSETTO:+0200
TZNAME:CEST
DTSTART:20230326T010000
END:DAYLIGHT
BEGIN:STANDARD
TZOFFSETFROM:+0200
TZOFFSETTO:+0100
TZNAME:CET
DTSTART:20231029T010000
END:STANDARD
BEGIN:DAYLIGHT
TZOFFSETFROM:+0100
TZOFFSETTO:+0200
TZNAME:CEST
DTSTART:20240331T010000
END:DAYLIGHT
BEGIN:STANDARD
TZOFFSETFROM:+0200
TZOFFSETTO:+0100
TZNAME:CET
DTSTART:20241027T010000
END:STANDARD
BEGIN:DAYLIGHT
TZOFFSETFROM:+0100
TZOFFSETTO:+0200
TZNAME:CEST
DTSTART:20250330T010000
END:DAYLIGHT
BEGIN:STANDARD
TZOFFSETFROM:+0200
TZOFFSETTO:+0100
TZNAME:CET
DTSTART:20251026T010000
END:STANDARD
END:VTIMEZONE
BEGIN:VEVENT
DTSTART;TZID=Europe/Paris:20241106T180000
DTEND;TZID=Europe/Paris:20241106T190000
DTSTAMP:20260423T062549
CREATED:20240919T061432Z
LAST-MODIFIED:20240919T061432Z
UID:3150-1730916000-1730919600@schachclub-beilngries.de
SUMMARY:Eröffnungstraining über Digitales Meeting
DESCRIPTION:
URL:http://schachclub-beilngries.de/veranstaltung/eroeffnungstraining-ueber-digitales-meeting-6/
END:VEVENT
BEGIN:VEVENT
DTSTART;TZID=Europe/Paris:20241108T150000
DTEND;TZID=Europe/Paris:20241108T163000
DTSTAMP:20260423T062549
CREATED:20240919T060800Z
LAST-MODIFIED:20240919T060800Z
UID:3128-1731078000-1731083400@schachclub-beilngries.de
SUMMARY:Jugendtraining
DESCRIPTION:
URL:http://schachclub-beilngries.de/veranstaltung/jugendtraining-70/
END:VEVENT
BEGIN:VEVENT
DTSTART;TZID=Europe/Paris:20241108T200000
DTEND;TZID=Europe/Paris:20241108T233000
DTSTAMP:20260423T062549
CREATED:20240919T050640Z
LAST-MODIFIED:20240919T050640Z
UID:3092-1731096000-1731108600@schachclub-beilngries.de
SUMMARY:Stadtmeisterschaft 3. Runde
DESCRIPTION:
URL:http://schachclub-beilngries.de/veranstaltung/stadtmeisterschaft-3-runde-3/
END:VEVENT
BEGIN:VEVENT
DTSTART;TZID=Europe/Paris:20241110T080000
DTEND;TZID=Europe/Paris:20241110T140000
DTSTAMP:20260423T062549
CREATED:20240919T044140Z
LAST-MODIFIED:20240919T044140Z
UID:3072-1731225600-1731247200@schachclub-beilngries.de
SUMMARY:SV Weichering - SC 1947 Beilngries 2
DESCRIPTION:
URL:http://schachclub-beilngries.de/veranstaltung/sv-weichering-sc-1947-beilngries-2/
END:VEVENT
BEGIN:VEVENT
DTSTART;TZID=Europe/Paris:20241110T090000
DTEND;TZID=Europe/Paris:20241110T130000
DTSTAMP:20260423T062549
CREATED:20240821T065515Z
LAST-MODIFIED:20240919T043219Z
UID:2998-1731229200-1731243600@schachclub-beilngries.de
SUMMARY:SC 1947 Beilngries - TSV Mainburg
DESCRIPTION:
URL:http://schachclub-beilngries.de/veranstaltung/vorlaeufiger-spieltag-fuer-mannschaftskampf-3/
END:VEVENT
BEGIN:VEVENT
DTSTART;TZID=Europe/Paris:20241113T180000
DTEND;TZID=Europe/Paris:20241113T190000
DTSTAMP:20260423T062549
CREATED:20240919T061507Z
LAST-MODIFIED:20240919T061507Z
UID:3152-1731520800-1731524400@schachclub-beilngries.de
SUMMARY:Eröffnungstraining über Digitales Meeting
DESCRIPTION:
URL:http://schachclub-beilngries.de/veranstaltung/eroeffnungstraining-ueber-digitales-meeting-7/
END:VEVENT
BEGIN:VEVENT
DTSTART;TZID=Europe/Paris:20241113T180000
DTEND;TZID=Europe/Paris:20241113T190000
DTSTAMP:20260423T062549
CREATED:20240919T061535Z
LAST-MODIFIED:20240919T061535Z
UID:3154-1731520800-1731524400@schachclub-beilngries.de
SUMMARY:Eröffnungstraining über Digitales Meeting
DESCRIPTION:
URL:http://schachclub-beilngries.de/veranstaltung/eroeffnungstraining-ueber-digitales-meeting-8/
END:VEVENT
BEGIN:VEVENT
DTSTART;TZID=Europe/Paris:20241115T150000
DTEND;TZID=Europe/Paris:20241115T163000
DTSTAMP:20260423T062549
CREATED:20240919T060827Z
LAST-MODIFIED:20240919T060827Z
UID:3130-1731682800-1731688200@schachclub-beilngries.de
SUMMARY:Jugendtraining
DESCRIPTION:
URL:http://schachclub-beilngries.de/veranstaltung/jugendtraining-71/
END:VEVENT
BEGIN:VEVENT
DTSTART;TZID=Europe/Paris:20241115T200000
DTEND;TZID=Europe/Paris:20241115T233000
DTSTAMP:20260423T062549
CREATED:20240919T050723Z
LAST-MODIFIED:20240919T050723Z
UID:3094-1731700800-1731713400@schachclub-beilngries.de
SUMMARY:Monatsblitz 3 (November)
DESCRIPTION:
URL:http://schachclub-beilngries.de/veranstaltung/monatsblitz-3-november/
END:VEVENT
BEGIN:VEVENT
DTSTART;TZID=Europe/Paris:20241120T180000
DTEND;TZID=Europe/Paris:20241120T190000
DTSTAMP:20260423T062549
CREATED:20240919T061603Z
LAST-MODIFIED:20240919T061603Z
UID:3156-1732125600-1732129200@schachclub-beilngries.de
SUMMARY:Eröffnungstraining über Digitales Meeting
DESCRIPTION:
URL:http://schachclub-beilngries.de/veranstaltung/eroeffnungstraining-ueber-digitales-meeting-9/
END:VEVENT
BEGIN:VEVENT
DTSTART;TZID=Europe/Paris:20241122T150000
DTEND;TZID=Europe/Paris:20241122T163000
DTSTAMP:20260423T062549
CREATED:20240919T060855Z
LAST-MODIFIED:20240919T060855Z
UID:3132-1732287600-1732293000@schachclub-beilngries.de
SUMMARY:Jugendtraining
DESCRIPTION:
URL:http://schachclub-beilngries.de/veranstaltung/jugendtraining-72/
END:VEVENT
BEGIN:VEVENT
DTSTART;TZID=Europe/Paris:20241122T200000
DTEND;TZID=Europe/Paris:20241122T233000
DTSTAMP:20260423T062549
CREATED:20240919T050820Z
LAST-MODIFIED:20240919T050820Z
UID:3096-1732305600-1732318200@schachclub-beilngries.de
SUMMARY:Stadtmeisterschaft Nachholpartien
DESCRIPTION:
URL:http://schachclub-beilngries.de/veranstaltung/stadtmeisterschaft-nachholpartien-8/
END:VEVENT
BEGIN:VEVENT
DTSTART;TZID=Europe/Paris:20241127T180000
DTEND;TZID=Europe/Paris:20241127T190000
DTSTAMP:20260423T062549
CREATED:20240919T061640Z
LAST-MODIFIED:20240919T061640Z
UID:3158-1732730400-1732734000@schachclub-beilngries.de
SUMMARY:Eröffnungstraining über Digitales Meeting
DESCRIPTION:
URL:http://schachclub-beilngries.de/veranstaltung/eroeffnungstraining-ueber-digitales-meeting-10/
END:VEVENT
BEGIN:VEVENT
DTSTART;TZID=Europe/Paris:20241129T150000
DTEND;TZID=Europe/Paris:20241129T163000
DTSTAMP:20260423T062549
CREATED:20240919T060923Z
LAST-MODIFIED:20240919T062017Z
UID:3134-1732892400-1732897800@schachclub-beilngries.de
SUMMARY:Jugendtraining
DESCRIPTION:
URL:http://schachclub-beilngries.de/veranstaltung/jugendtraining-73/
END:VEVENT
BEGIN:VEVENT
DTSTART;TZID=Europe/Paris:20241129T200000
DTEND;TZID=Europe/Paris:20241129T233000
DTSTAMP:20260423T062549
CREATED:20240919T050911Z
LAST-MODIFIED:20240919T050911Z
UID:3098-1732910400-1732923000@schachclub-beilngries.de
SUMMARY:Stadtmeisterschaft 4. Runde
DESCRIPTION:
URL:http://schachclub-beilngries.de/veranstaltung/stadtmeisterschaft-4-runde-2/
END:VEVENT
END:VCALENDAR