BEGIN:VCALENDAR
VERSION:2.0
PRODID:-//Schachclub 1947 Beilngries e.V. - ECPv6.15.20//NONSGML v1.0//EN
CALSCALE:GREGORIAN
METHOD:PUBLISH
X-ORIGINAL-URL:http://schachclub-beilngries.de
X-WR-CALDESC:Veranstaltungen für Schachclub 1947 Beilngries e.V.
REFRESH-INTERVAL;VALUE=DURATION:PT1H
X-Robots-Tag:noindex
X-PUBLISHED-TTL:PT1H
BEGIN:VTIMEZONE
TZID:Europe/Paris
BEGIN:DAYLIGHT
TZOFFSETFROM:+0100
TZOFFSETTO:+0200
TZNAME:CEST
DTSTART:20230326T010000
END:DAYLIGHT
BEGIN:STANDARD
TZOFFSETFROM:+0200
TZOFFSETTO:+0100
TZNAME:CET
DTSTART:20231029T010000
END:STANDARD
BEGIN:DAYLIGHT
TZOFFSETFROM:+0100
TZOFFSETTO:+0200
TZNAME:CEST
DTSTART:20240331T010000
END:DAYLIGHT
BEGIN:STANDARD
TZOFFSETFROM:+0200
TZOFFSETTO:+0100
TZNAME:CET
DTSTART:20241027T010000
END:STANDARD
BEGIN:DAYLIGHT
TZOFFSETFROM:+0100
TZOFFSETTO:+0200
TZNAME:CEST
DTSTART:20250330T010000
END:DAYLIGHT
BEGIN:STANDARD
TZOFFSETFROM:+0200
TZOFFSETTO:+0100
TZNAME:CET
DTSTART:20251026T010000
END:STANDARD
END:VTIMEZONE
BEGIN:VEVENT
DTSTART;TZID=Europe/Paris:20241002T180000
DTEND;TZID=Europe/Paris:20241002T190000
DTSTAMP:20260423T074409
CREATED:20240919T061225Z
LAST-MODIFIED:20240919T061225Z
UID:3142-1727892000-1727895600@schachclub-beilngries.de
SUMMARY:Eröffnungstraining über Digitales Meeting
DESCRIPTION:
URL:http://schachclub-beilngries.de/veranstaltung/eroeffnungstraining-ueber-digitales-meeting-2/
END:VEVENT
BEGIN:VEVENT
DTSTART;TZID=Europe/Paris:20241004T150000
DTEND;TZID=Europe/Paris:20241004T163000
DTSTAMP:20260423T074409
CREATED:20240919T060609Z
LAST-MODIFIED:20240919T060609Z
UID:3120-1728054000-1728059400@schachclub-beilngries.de
SUMMARY:Jugendtraining
DESCRIPTION:
URL:http://schachclub-beilngries.de/veranstaltung/jugendtraining-66/
END:VEVENT
BEGIN:VEVENT
DTSTART;TZID=Europe/Paris:20241004T200000
DTEND;TZID=Europe/Paris:20241004T233000
DTSTAMP:20260423T074409
CREATED:20240919T050231Z
LAST-MODIFIED:20240919T050231Z
UID:3084-1728072000-1728084600@schachclub-beilngries.de
SUMMARY:Stadtmeisterschaft Nachholpartien 	  Brückentag (3. Oktober)
DESCRIPTION:
URL:http://schachclub-beilngries.de/veranstaltung/stadtmeisterschaft-nachholpartien-brueckentag-3-oktober/
END:VEVENT
BEGIN:VEVENT
DTSTART;TZID=Europe/Paris:20241006T080000
DTEND;TZID=Europe/Paris:20241006T140000
DTSTAMP:20260423T074409
CREATED:20240916T051155Z
LAST-MODIFIED:20240919T043858Z
UID:3045-1728201600-1728223200@schachclub-beilngries.de
SUMMARY:SK Freising 3 - SC 1947 Beilngries 2
DESCRIPTION:
URL:http://schachclub-beilngries.de/veranstaltung/sv-wettstetten-e-v-6er-sc-1947-beilngries-2-3/
END:VEVENT
BEGIN:VEVENT
DTSTART;TZID=Europe/Paris:20241006T090000
DTEND;TZID=Europe/Paris:20241006T130000
DTSTAMP:20260423T074409
CREATED:20240821T065353Z
LAST-MODIFIED:20240919T042952Z
UID:2994-1728205200-1728219600@schachclub-beilngries.de
SUMMARY:SC 1947 Beilngries - MTV Ingolstadt 2
DESCRIPTION:
URL:http://schachclub-beilngries.de/veranstaltung/vorlaeufiger-spieltag-fuer-mannschaftskampf/
END:VEVENT
BEGIN:VEVENT
DTSTART;TZID=Europe/Paris:20241009T180000
DTEND;TZID=Europe/Paris:20241009T190000
DTSTAMP:20260423T074409
CREATED:20240919T061251Z
LAST-MODIFIED:20240919T061251Z
UID:3144-1728496800-1728500400@schachclub-beilngries.de
SUMMARY:Eröffnungstraining über Digitales Meeting
DESCRIPTION:
URL:http://schachclub-beilngries.de/veranstaltung/eroeffnungstraining-ueber-digitales-meeting-3/
END:VEVENT
BEGIN:VEVENT
DTSTART;TZID=Europe/Paris:20241011T150000
DTEND;TZID=Europe/Paris:20241011T163000
DTSTAMP:20260423T074409
CREATED:20240919T060636Z
LAST-MODIFIED:20240919T060636Z
UID:3122-1728658800-1728664200@schachclub-beilngries.de
SUMMARY:Jugendtraining
DESCRIPTION:
URL:http://schachclub-beilngries.de/veranstaltung/jugendtraining-67/
END:VEVENT
BEGIN:VEVENT
DTSTART;TZID=Europe/Paris:20241011T200000
DTEND;TZID=Europe/Paris:20241011T233000
DTSTAMP:20260423T074409
CREATED:20240919T050327Z
LAST-MODIFIED:20240919T050327Z
UID:3086-1728676800-1728689400@schachclub-beilngries.de
SUMMARY:Stadtmeisterschaft 2. Runde
DESCRIPTION:
URL:http://schachclub-beilngries.de/veranstaltung/stadtmeisterschaft-2-runde-3/
END:VEVENT
BEGIN:VEVENT
DTSTART;TZID=Europe/Paris:20241016T180000
DTEND;TZID=Europe/Paris:20241016T190000
DTSTAMP:20260423T074409
CREATED:20240919T061324Z
LAST-MODIFIED:20240919T061324Z
UID:3146-1729101600-1729105200@schachclub-beilngries.de
SUMMARY:Eröffnungstraining über Digitales Meeting
DESCRIPTION:
URL:http://schachclub-beilngries.de/veranstaltung/eroeffnungstraining-ueber-digitales-meeting-4/
END:VEVENT
BEGIN:VEVENT
DTSTART;TZID=Europe/Paris:20241018T150000
DTEND;TZID=Europe/Paris:20241018T163000
DTSTAMP:20260423T074409
CREATED:20240919T060700Z
LAST-MODIFIED:20240919T060700Z
UID:3124-1729263600-1729269000@schachclub-beilngries.de
SUMMARY:Jugendtraining
DESCRIPTION:
URL:http://schachclub-beilngries.de/veranstaltung/jugendtraining-68/
END:VEVENT
BEGIN:VEVENT
DTSTART;TZID=Europe/Paris:20241018T200000
DTEND;TZID=Europe/Paris:20241018T233000
DTSTAMP:20260423T074409
CREATED:20240919T050428Z
LAST-MODIFIED:20240919T050428Z
UID:3088-1729281600-1729294200@schachclub-beilngries.de
SUMMARY:Monatsblitz 2 (Oktober)
DESCRIPTION:
URL:http://schachclub-beilngries.de/veranstaltung/monatsblitz-2-oktober/
END:VEVENT
BEGIN:VEVENT
DTSTART;TZID=Europe/Paris:20241020T080000
DTEND;TZID=Europe/Paris:20241020T130000
DTSTAMP:20260423T074409
CREATED:20240821T065419Z
LAST-MODIFIED:20240919T043107Z
UID:2996-1729411200-1729429200@schachclub-beilngries.de
SUMMARY:SK Abensberg - SC 1947 Beilngries
DESCRIPTION:
URL:http://schachclub-beilngries.de/veranstaltung/vorlaeufiger-spieltag-fuer-mannschaftskampf-2/
END:VEVENT
BEGIN:VEVENT
DTSTART;TZID=Europe/Paris:20241020T090000
DTEND;TZID=Europe/Paris:20241020T140000
DTSTAMP:20260423T074409
CREATED:20240916T051238Z
LAST-MODIFIED:20240919T044012Z
UID:3047-1729414800-1729432800@schachclub-beilngries.de
SUMMARY:SC 1947 Beilngries 2 - SV Wettstetten e.V. (6e)
DESCRIPTION:
URL:http://schachclub-beilngries.de/veranstaltung/sc-1947-beilngries-2-sv-weichering-3/
END:VEVENT
BEGIN:VEVENT
DTSTART;TZID=Europe/Paris:20241023T180000
DTEND;TZID=Europe/Paris:20241023T190000
DTSTAMP:20260423T074409
CREATED:20240919T061351Z
LAST-MODIFIED:20240919T061351Z
UID:3148-1729706400-1729710000@schachclub-beilngries.de
SUMMARY:Eröffnungstraining über Digitales Meeting
DESCRIPTION:
URL:http://schachclub-beilngries.de/veranstaltung/eroeffnungstraining-ueber-digitales-meeting-5/
END:VEVENT
BEGIN:VEVENT
DTSTART;TZID=Europe/Paris:20241025T150000
DTEND;TZID=Europe/Paris:20241025T163000
DTSTAMP:20260423T074409
CREATED:20240919T060728Z
LAST-MODIFIED:20240919T060728Z
UID:3126-1729868400-1729873800@schachclub-beilngries.de
SUMMARY:Jugendtraining
DESCRIPTION:
URL:http://schachclub-beilngries.de/veranstaltung/jugendtraining-69/
END:VEVENT
BEGIN:VEVENT
DTSTART;TZID=Europe/Paris:20241025T200000
DTEND;TZID=Europe/Paris:20241025T233000
DTSTAMP:20260423T074409
CREATED:20240919T050540Z
LAST-MODIFIED:20240919T050540Z
UID:3090-1729886400-1729899000@schachclub-beilngries.de
SUMMARY:Stadtmeisterschaft Nachholpartien
DESCRIPTION:
URL:http://schachclub-beilngries.de/veranstaltung/stadtmeisterschaft-nachholpartien-7/
END:VEVENT
END:VCALENDAR