BEGIN:VCALENDAR
VERSION:2.0
PRODID:-//Schachclub 1947 Beilngries e.V. - ECPv6.15.20//NONSGML v1.0//EN
CALSCALE:GREGORIAN
METHOD:PUBLISH
X-ORIGINAL-URL:http://schachclub-beilngries.de
X-WR-CALDESC:Veranstaltungen für Schachclub 1947 Beilngries e.V.
REFRESH-INTERVAL;VALUE=DURATION:PT1H
X-Robots-Tag:noindex
X-PUBLISHED-TTL:PT1H
BEGIN:VTIMEZONE
TZID:Europe/Paris
BEGIN:DAYLIGHT
TZOFFSETFROM:+0100
TZOFFSETTO:+0200
TZNAME:CEST
DTSTART:20230326T010000
END:DAYLIGHT
BEGIN:STANDARD
TZOFFSETFROM:+0200
TZOFFSETTO:+0100
TZNAME:CET
DTSTART:20231029T010000
END:STANDARD
BEGIN:DAYLIGHT
TZOFFSETFROM:+0100
TZOFFSETTO:+0200
TZNAME:CEST
DTSTART:20240331T010000
END:DAYLIGHT
BEGIN:STANDARD
TZOFFSETFROM:+0200
TZOFFSETTO:+0100
TZNAME:CET
DTSTART:20241027T010000
END:STANDARD
BEGIN:DAYLIGHT
TZOFFSETFROM:+0100
TZOFFSETTO:+0200
TZNAME:CEST
DTSTART:20250330T010000
END:DAYLIGHT
BEGIN:STANDARD
TZOFFSETFROM:+0200
TZOFFSETTO:+0100
TZNAME:CET
DTSTART:20251026T010000
END:STANDARD
END:VTIMEZONE
BEGIN:VEVENT
DTSTART;TZID=Europe/Paris:20240705T200000
DTEND;TZID=Europe/Paris:20240705T233000
DTSTAMP:20260423T125135
CREATED:20240304T151538Z
LAST-MODIFIED:20240304T151538Z
UID:2873-1720209600-1720222200@schachclub-beilngries.de
SUMMARY:Monatsblitz 11
DESCRIPTION:
URL:http://schachclub-beilngries.de/veranstaltung/monatsblitz-11/
END:VEVENT
BEGIN:VEVENT
DTSTART;TZID=Europe/Paris:20240712T200000
DTEND;TZID=Europe/Paris:20240712T233000
DTSTAMP:20260423T125135
CREATED:20240304T151552Z
LAST-MODIFIED:20240304T151552Z
UID:2875-1720814400-1720827000@schachclub-beilngries.de
SUMMARY:Schnellschach-Vereinsmeisterschaft
DESCRIPTION:
URL:http://schachclub-beilngries.de/veranstaltung/schnellschach-vereinsmeisterschaft/
END:VEVENT
BEGIN:VEVENT
DTSTART;TZID=Europe/Paris:20240719T200000
DTEND;TZID=Europe/Paris:20240719T233000
DTSTAMP:20260423T125135
CREATED:20240304T151606Z
LAST-MODIFIED:20240304T151606Z
UID:2877-1721419200-1721431800@schachclub-beilngries.de
SUMMARY:Schnellschach-Vereinsmeisterschaft
DESCRIPTION:
URL:http://schachclub-beilngries.de/veranstaltung/schnellschach-vereinsmeisterschaft-2/
END:VEVENT
END:VCALENDAR