BEGIN:VCALENDAR
VERSION:2.0
PRODID:-//Schachclub 1947 Beilngries e.V. - ECPv6.15.20//NONSGML v1.0//EN
CALSCALE:GREGORIAN
METHOD:PUBLISH
X-ORIGINAL-URL:http://schachclub-beilngries.de
X-WR-CALDESC:Veranstaltungen für Schachclub 1947 Beilngries e.V.
REFRESH-INTERVAL;VALUE=DURATION:PT1H
X-Robots-Tag:noindex
X-PUBLISHED-TTL:PT1H
BEGIN:VTIMEZONE
TZID:Europe/Paris
BEGIN:DAYLIGHT
TZOFFSETFROM:+0100
TZOFFSETTO:+0200
TZNAME:CEST
DTSTART:20230326T010000
END:DAYLIGHT
BEGIN:STANDARD
TZOFFSETFROM:+0200
TZOFFSETTO:+0100
TZNAME:CET
DTSTART:20231029T010000
END:STANDARD
BEGIN:DAYLIGHT
TZOFFSETFROM:+0100
TZOFFSETTO:+0200
TZNAME:CEST
DTSTART:20240331T010000
END:DAYLIGHT
BEGIN:STANDARD
TZOFFSETFROM:+0200
TZOFFSETTO:+0100
TZNAME:CET
DTSTART:20241027T010000
END:STANDARD
BEGIN:DAYLIGHT
TZOFFSETFROM:+0100
TZOFFSETTO:+0200
TZNAME:CEST
DTSTART:20250330T010000
END:DAYLIGHT
BEGIN:STANDARD
TZOFFSETFROM:+0200
TZOFFSETTO:+0100
TZNAME:CET
DTSTART:20251026T010000
END:STANDARD
END:VTIMEZONE
BEGIN:VEVENT
DTSTART;TZID=Europe/Paris:20240301T200000
DTEND;TZID=Europe/Paris:20240301T233000
DTSTAMP:20260423T200401
CREATED:20240221T065950Z
LAST-MODIFIED:20240221T065950Z
UID:2819-1709323200-1709335800@schachclub-beilngries.de
SUMMARY:Beginn der Vereinsmeisterschaft
DESCRIPTION:
URL:http://schachclub-beilngries.de/veranstaltung/beginn-der-vereinsmeisterschaft/
END:VEVENT
BEGIN:VEVENT
DTSTART;TZID=Europe/Paris:20240308T200000
DTEND;TZID=Europe/Paris:20240308T230000
DTSTAMP:20260423T200401
CREATED:20240304T145456Z
LAST-MODIFIED:20240304T151721Z
UID:2845-1709928000-1709938800@schachclub-beilngries.de
SUMMARY:Vereinsmeisterschaft 1. Runde
DESCRIPTION:Runde\n\n\n\n\nVögerl Ronald\n–\nGillig Michael\n \n\n\nVieracker Anita\n–\nStadler Georg\n \n\n\nHuber Stefan\n–\nWagner Waldemar\n \n\n\nSchmid Siegfried\n–\nSchneider Medard\n 
URL:http://schachclub-beilngries.de/veranstaltung/vereinsmeisterschaft-1-runde/
END:VEVENT
BEGIN:VEVENT
DTSTART;TZID=Europe/Paris:20240315T200000
DTEND;TZID=Europe/Paris:20240315T233000
DTSTAMP:20260423T200401
CREATED:20240304T151218Z
LAST-MODIFIED:20240304T151218Z
UID:2849-1710532800-1710545400@schachclub-beilngries.de
SUMMARY:Monatsblitz 7
DESCRIPTION:
URL:http://schachclub-beilngries.de/veranstaltung/monatsblitz-7/
END:VEVENT
BEGIN:VEVENT
DTSTART;TZID=Europe/Paris:20240317T090000
DTEND;TZID=Europe/Paris:20240317T130000
DTSTAMP:20260423T200401
CREATED:20240304T152546Z
LAST-MODIFIED:20240304T152546Z
UID:2886-1710666000-1710680400@schachclub-beilngries.de
SUMMARY:SC 1947 Beilngries 2 	- 	SC Moosburg 1956 e.V. 3
DESCRIPTION:
URL:http://schachclub-beilngries.de/veranstaltung/sc-1947-beilngries-2-sc-moosburg-1956-e-v-3-2/
END:VEVENT
BEGIN:VEVENT
DTSTART;TZID=Europe/Paris:20240322T200000
DTEND;TZID=Europe/Paris:20240322T233000
DTSTAMP:20260423T200401
CREATED:20240304T151240Z
LAST-MODIFIED:20240304T151844Z
UID:2851-1711137600-1711150200@schachclub-beilngries.de
SUMMARY:Vereinsmeisterschaft 2. Runde
DESCRIPTION:Runde\n\n\n\n\nGillig Michael\n–\nSchneider Medard\n \n\n\nWagner Waldemar\n–\nSchmid Siegfried\n \n\n\nStadler Georg\n–\nHuber Stefan\n \n\n\nVögerl Ronald\n–\nVieracker Anita\n 
URL:http://schachclub-beilngries.de/veranstaltung/vereinsmeisterschaft-2-runde/
END:VEVENT
END:VCALENDAR