BEGIN:VCALENDAR
VERSION:2.0
PRODID:-//Schachclub 1947 Beilngries e.V. - ECPv6.15.20//NONSGML v1.0//EN
CALSCALE:GREGORIAN
METHOD:PUBLISH
X-WR-CALNAME:Schachclub 1947 Beilngries e.V.
X-ORIGINAL-URL:http://schachclub-beilngries.de
X-WR-CALDESC:Veranstaltungen für Schachclub 1947 Beilngries e.V.
REFRESH-INTERVAL;VALUE=DURATION:PT1H
X-Robots-Tag:noindex
X-PUBLISHED-TTL:PT1H
BEGIN:VTIMEZONE
TZID:Europe/Paris
BEGIN:DAYLIGHT
TZOFFSETFROM:+0100
TZOFFSETTO:+0200
TZNAME:CEST
DTSTART:20230326T010000
END:DAYLIGHT
BEGIN:STANDARD
TZOFFSETFROM:+0200
TZOFFSETTO:+0100
TZNAME:CET
DTSTART:20231029T010000
END:STANDARD
BEGIN:DAYLIGHT
TZOFFSETFROM:+0100
TZOFFSETTO:+0200
TZNAME:CEST
DTSTART:20240331T010000
END:DAYLIGHT
BEGIN:STANDARD
TZOFFSETFROM:+0200
TZOFFSETTO:+0100
TZNAME:CET
DTSTART:20241027T010000
END:STANDARD
BEGIN:DAYLIGHT
TZOFFSETFROM:+0100
TZOFFSETTO:+0200
TZNAME:CEST
DTSTART:20250330T010000
END:DAYLIGHT
BEGIN:STANDARD
TZOFFSETFROM:+0200
TZOFFSETTO:+0100
TZNAME:CET
DTSTART:20251026T010000
END:STANDARD
END:VTIMEZONE
BEGIN:VEVENT
DTSTART;TZID=Europe/Paris:20240112T200000
DTEND;TZID=Europe/Paris:20240112T233000
DTSTAMP:20260423T234359
CREATED:20230913T060531Z
LAST-MODIFIED:20230913T060531Z
UID:2694-1705089600-1705102200@schachclub-beilngries.de
SUMMARY:Stadtmeisterschaft 5. Runde
DESCRIPTION:
URL:http://schachclub-beilngries.de/veranstaltung/stadtmeisterschaft-5-runde/
END:VEVENT
BEGIN:VEVENT
DTSTART;TZID=Europe/Paris:20240114T090000
DTEND;TZID=Europe/Paris:20240114T140000
DTSTAMP:20260423T234359
CREATED:20230925T050735Z
LAST-MODIFIED:20230925T050905Z
UID:2716-1705222800-1705240800@schachclub-beilngries.de
SUMMARY:SC 1947 Beilngries 1 - SK Ingolstadt 2
DESCRIPTION:
URL:http://schachclub-beilngries.de/veranstaltung/sc-1947-beilngries-sk-ingolstadt-2/
END:VEVENT
BEGIN:VEVENT
DTSTART;TZID=Europe/Paris:20240119T200000
DTEND;TZID=Europe/Paris:20240119T233000
DTSTAMP:20260423T234359
CREATED:20230913T060923Z
LAST-MODIFIED:20230913T060923Z
UID:2702-1705694400-1705707000@schachclub-beilngries.de
SUMMARY:Monatsblitz 5
DESCRIPTION:
URL:http://schachclub-beilngries.de/veranstaltung/monatsblitz-5-2/
END:VEVENT
END:VCALENDAR