BEGIN:VCALENDAR
VERSION:2.0
PRODID:-//Schachclub 1947 Beilngries e.V. - ECPv6.15.20//NONSGML v1.0//EN
CALSCALE:GREGORIAN
METHOD:PUBLISH
X-WR-CALNAME:Schachclub 1947 Beilngries e.V.
X-ORIGINAL-URL:http://schachclub-beilngries.de
X-WR-CALDESC:Veranstaltungen für Schachclub 1947 Beilngries e.V.
REFRESH-INTERVAL;VALUE=DURATION:PT1H
X-Robots-Tag:noindex
X-PUBLISHED-TTL:PT1H
BEGIN:VTIMEZONE
TZID:Europe/Paris
BEGIN:DAYLIGHT
TZOFFSETFROM:+0100
TZOFFSETTO:+0200
TZNAME:CEST
DTSTART:20220327T010000
END:DAYLIGHT
BEGIN:STANDARD
TZOFFSETFROM:+0200
TZOFFSETTO:+0100
TZNAME:CET
DTSTART:20221030T010000
END:STANDARD
BEGIN:DAYLIGHT
TZOFFSETFROM:+0100
TZOFFSETTO:+0200
TZNAME:CEST
DTSTART:20230326T010000
END:DAYLIGHT
BEGIN:STANDARD
TZOFFSETFROM:+0200
TZOFFSETTO:+0100
TZNAME:CET
DTSTART:20231029T010000
END:STANDARD
BEGIN:DAYLIGHT
TZOFFSETFROM:+0100
TZOFFSETTO:+0200
TZNAME:CEST
DTSTART:20240331T010000
END:DAYLIGHT
BEGIN:STANDARD
TZOFFSETFROM:+0200
TZOFFSETTO:+0100
TZNAME:CET
DTSTART:20241027T010000
END:STANDARD
END:VTIMEZONE
BEGIN:VEVENT
DTSTART;TZID=Europe/Paris:20231201T200000
DTEND;TZID=Europe/Paris:20231201T233000
DTSTAMP:20260424T012449
CREATED:20230913T060449Z
LAST-MODIFIED:20230913T060449Z
UID:2692-1701460800-1701473400@schachclub-beilngries.de
SUMMARY:Stadtmeisterschaft 4. Runde
DESCRIPTION:
URL:http://schachclub-beilngries.de/veranstaltung/stadtmeisterschaft-4-runde/
END:VEVENT
BEGIN:VEVENT
DTSTART;TZID=Europe/Paris:20231203T080000
DTEND;TZID=Europe/Paris:20231203T140000
DTSTAMP:20260424T012449
CREATED:20230925T051709Z
LAST-MODIFIED:20230925T051709Z
UID:2733-1701590400-1701612000@schachclub-beilngries.de
SUMMARY:MTV Ingolstadt 2 - SC 1947 Beilngries 2
DESCRIPTION:
URL:http://schachclub-beilngries.de/veranstaltung/mtv-ingolstadt-2-sc-1947-beilngries-2-2/
END:VEVENT
BEGIN:VEVENT
DTSTART;TZID=Europe/Paris:20231203T090000
DTEND;TZID=Europe/Paris:20231203T140000
DTSTAMP:20260424T012449
CREATED:20230925T050501Z
LAST-MODIFIED:20230925T050612Z
UID:2713-1701594000-1701612000@schachclub-beilngries.de
SUMMARY:SC 1947 Beilngries 1 - TSV Ingolstadt Nord
DESCRIPTION:
URL:http://schachclub-beilngries.de/veranstaltung/sc-1947-beilngries-1-sk-ingolstadt-2/
END:VEVENT
BEGIN:VEVENT
DTSTART;TZID=Europe/Paris:20231208T200000
DTEND;TZID=Europe/Paris:20231208T233000
DTSTAMP:20260424T012449
CREATED:20230913T060842Z
LAST-MODIFIED:20230913T060842Z
UID:2700-1702065600-1702078200@schachclub-beilngries.de
SUMMARY:Monatsblitz 4
DESCRIPTION:
URL:http://schachclub-beilngries.de/veranstaltung/monatsblitz-4-2/
END:VEVENT
BEGIN:VEVENT
DTSTART;TZID=Europe/Paris:20231215T200000
DTEND;TZID=Europe/Paris:20231215T233000
DTSTAMP:20260424T012449
CREATED:20230913T060203Z
LAST-MODIFIED:20230913T060203Z
UID:2686-1702670400-1702683000@schachclub-beilngries.de
SUMMARY:Stadtmeisterschaft Nachholpartien
DESCRIPTION:
URL:http://schachclub-beilngries.de/veranstaltung/stadtmeisterschaft-nachholpartien-5/
END:VEVENT
END:VCALENDAR