BEGIN:VCALENDAR
VERSION:2.0
PRODID:-//Schachclub 1947 Beilngries e.V. - ECPv6.15.20//NONSGML v1.0//EN
CALSCALE:GREGORIAN
METHOD:PUBLISH
X-ORIGINAL-URL:http://schachclub-beilngries.de
X-WR-CALDESC:Veranstaltungen für Schachclub 1947 Beilngries e.V.
REFRESH-INTERVAL;VALUE=DURATION:PT1H
X-Robots-Tag:noindex
X-PUBLISHED-TTL:PT1H
BEGIN:VTIMEZONE
TZID:Europe/Paris
BEGIN:DAYLIGHT
TZOFFSETFROM:+0100
TZOFFSETTO:+0200
TZNAME:CEST
DTSTART:20220327T010000
END:DAYLIGHT
BEGIN:STANDARD
TZOFFSETFROM:+0200
TZOFFSETTO:+0100
TZNAME:CET
DTSTART:20221030T010000
END:STANDARD
BEGIN:DAYLIGHT
TZOFFSETFROM:+0100
TZOFFSETTO:+0200
TZNAME:CEST
DTSTART:20230326T010000
END:DAYLIGHT
BEGIN:STANDARD
TZOFFSETFROM:+0200
TZOFFSETTO:+0100
TZNAME:CET
DTSTART:20231029T010000
END:STANDARD
BEGIN:DAYLIGHT
TZOFFSETFROM:+0100
TZOFFSETTO:+0200
TZNAME:CEST
DTSTART:20240331T010000
END:DAYLIGHT
BEGIN:STANDARD
TZOFFSETFROM:+0200
TZOFFSETTO:+0100
TZNAME:CET
DTSTART:20241027T010000
END:STANDARD
END:VTIMEZONE
BEGIN:VEVENT
DTSTART;TZID=Europe/Paris:20231110T200000
DTEND;TZID=Europe/Paris:20231110T233000
DTSTAMP:20260424T031647
CREATED:20230913T060403Z
LAST-MODIFIED:20230913T060403Z
UID:2690-1699646400-1699659000@schachclub-beilngries.de
SUMMARY:Stadtmeisterschaft 3. Runde
DESCRIPTION:
URL:http://schachclub-beilngries.de/veranstaltung/stadtmeisterschaft-3-runde-2/
END:VEVENT
BEGIN:VEVENT
DTSTART;TZID=Europe/Paris:20231117T200000
DTEND;TZID=Europe/Paris:20231117T233000
DTSTAMP:20260424T031647
CREATED:20230913T060801Z
LAST-MODIFIED:20230913T060801Z
UID:2698-1700251200-1700263800@schachclub-beilngries.de
SUMMARY:Monatsblitz 3
DESCRIPTION:
URL:http://schachclub-beilngries.de/veranstaltung/monatsblitz-3-2/
END:VEVENT
BEGIN:VEVENT
DTSTART;TZID=Europe/Paris:20231119T080000
DTEND;TZID=Europe/Paris:20231119T140000
DTSTAMP:20260424T031647
CREATED:20230925T050341Z
LAST-MODIFIED:20230925T050341Z
UID:2711-1700380800-1700402400@schachclub-beilngries.de
SUMMARY:SK Neuburg 2 - SC 1947 Beilngries 1
DESCRIPTION:
URL:http://schachclub-beilngries.de/veranstaltung/sk-neuburg-2-sc-1947-beilngries-1/
END:VEVENT
BEGIN:VEVENT
DTSTART;TZID=Europe/Paris:20231119T090000
DTEND;TZID=Europe/Paris:20231119T140000
DTSTAMP:20260424T031647
CREATED:20230925T051617Z
LAST-MODIFIED:20230925T051617Z
UID:2731-1700384400-1700402400@schachclub-beilngries.de
SUMMARY:SC 1947 Beilngries 2 - TSV Großmehring
DESCRIPTION:
URL:http://schachclub-beilngries.de/veranstaltung/sc-1947-beilngries-2-tsv-grossmehring/
END:VEVENT
BEGIN:VEVENT
DTSTART;TZID=Europe/Paris:20231124T200000
DTEND;TZID=Europe/Paris:20231124T233000
DTSTAMP:20260424T031647
CREATED:20230913T060126Z
LAST-MODIFIED:20230913T060126Z
UID:2684-1700856000-1700868600@schachclub-beilngries.de
SUMMARY:Stadtmeisterschaft Nachholpartien
DESCRIPTION:
URL:http://schachclub-beilngries.de/veranstaltung/stadtmeisterschaft-nachholpartien-4/
END:VEVENT
END:VCALENDAR