BEGIN:VCALENDAR
VERSION:2.0
PRODID:-//Schachclub 1947 Beilngries e.V. - ECPv6.15.20//NONSGML v1.0//EN
CALSCALE:GREGORIAN
METHOD:PUBLISH
X-WR-CALNAME:Schachclub 1947 Beilngries e.V.
X-ORIGINAL-URL:http://schachclub-beilngries.de
X-WR-CALDESC:Veranstaltungen für Schachclub 1947 Beilngries e.V.
REFRESH-INTERVAL;VALUE=DURATION:PT1H
X-Robots-Tag:noindex
X-PUBLISHED-TTL:PT1H
BEGIN:VTIMEZONE
TZID:Europe/Paris
BEGIN:DAYLIGHT
TZOFFSETFROM:+0100
TZOFFSETTO:+0200
TZNAME:CEST
DTSTART:20220327T010000
END:DAYLIGHT
BEGIN:STANDARD
TZOFFSETFROM:+0200
TZOFFSETTO:+0100
TZNAME:CET
DTSTART:20221030T010000
END:STANDARD
BEGIN:DAYLIGHT
TZOFFSETFROM:+0100
TZOFFSETTO:+0200
TZNAME:CEST
DTSTART:20230326T010000
END:DAYLIGHT
BEGIN:STANDARD
TZOFFSETFROM:+0200
TZOFFSETTO:+0100
TZNAME:CET
DTSTART:20231029T010000
END:STANDARD
BEGIN:DAYLIGHT
TZOFFSETFROM:+0100
TZOFFSETTO:+0200
TZNAME:CEST
DTSTART:20240331T010000
END:DAYLIGHT
BEGIN:STANDARD
TZOFFSETFROM:+0200
TZOFFSETTO:+0100
TZNAME:CET
DTSTART:20241027T010000
END:STANDARD
END:VTIMEZONE
BEGIN:VEVENT
DTSTART;TZID=Europe/Paris:20231006T200000
DTEND;TZID=Europe/Paris:20231006T233000
DTSTAMP:20260424T050446
CREATED:20230913T055913Z
LAST-MODIFIED:20230913T055913Z
UID:2680-1696622400-1696635000@schachclub-beilngries.de
SUMMARY:Stadtmeisterschaft Nachholpartien
DESCRIPTION:
URL:http://schachclub-beilngries.de/veranstaltung/stadtmeisterschaft-nachholpartien-2/
END:VEVENT
BEGIN:VEVENT
DTSTART;TZID=Europe/Paris:20231013T200000
DTEND;TZID=Europe/Paris:20231013T233000
DTSTAMP:20260424T050446
CREATED:20230913T060323Z
LAST-MODIFIED:20230913T060323Z
UID:2688-1697227200-1697239800@schachclub-beilngries.de
SUMMARY:Stadtmeisterschaft 2. Runde
DESCRIPTION:
URL:http://schachclub-beilngries.de/veranstaltung/stadtmeisterschaft-2-runde-2/
END:VEVENT
BEGIN:VEVENT
DTSTART;TZID=Europe/Paris:20231020T200000
DTEND;TZID=Europe/Paris:20231020T233000
DTSTAMP:20260424T050446
CREATED:20230913T060716Z
LAST-MODIFIED:20230913T060716Z
UID:2696-1697832000-1697844600@schachclub-beilngries.de
SUMMARY:Monatsblitz 2
DESCRIPTION:
URL:http://schachclub-beilngries.de/veranstaltung/monatsblitz-2-2/
END:VEVENT
BEGIN:VEVENT
DTSTART;TZID=Europe/Paris:20231022T080000
DTEND;TZID=Europe/Paris:20231022T140000
DTSTAMP:20260424T050446
CREATED:20230925T051520Z
LAST-MODIFIED:20230925T051520Z
UID:2729-1697961600-1697983200@schachclub-beilngries.de
SUMMARY:SC Eichstätt 1921 e.V. - SC 1947 Beilngries 2
DESCRIPTION:
URL:http://schachclub-beilngries.de/veranstaltung/sc-eichstaett-1921-e-v-sc-1947-beilngries-2/
END:VEVENT
BEGIN:VEVENT
DTSTART;TZID=Europe/Paris:20231022T090000
DTEND;TZID=Europe/Paris:20231022T140000
DTSTAMP:20260424T050446
CREATED:20230925T050239Z
LAST-MODIFIED:20230925T050239Z
UID:2709-1697965200-1697983200@schachclub-beilngries.de
SUMMARY:SC 1947 Beilngries 1 - SK Freising 2
DESCRIPTION:
URL:http://schachclub-beilngries.de/veranstaltung/sc-1947-beilngries-1-sk-freising-2/
END:VEVENT
BEGIN:VEVENT
DTSTART;TZID=Europe/Paris:20231027T200000
DTEND;TZID=Europe/Paris:20231027T230000
DTSTAMP:20260424T050446
CREATED:20230913T060055Z
LAST-MODIFIED:20230913T060055Z
UID:2682-1698436800-1698447600@schachclub-beilngries.de
SUMMARY:Stadtmeisterschaft Nachholpartien
DESCRIPTION:
URL:http://schachclub-beilngries.de/veranstaltung/stadtmeisterschaft-nachholpartien-3/
END:VEVENT
END:VCALENDAR