BEGIN:VCALENDAR
VERSION:2.0
PRODID:-//Schachclub 1947 Beilngries e.V. - ECPv6.15.20//NONSGML v1.0//EN
CALSCALE:GREGORIAN
METHOD:PUBLISH
X-ORIGINAL-URL:http://schachclub-beilngries.de
X-WR-CALDESC:Veranstaltungen für Schachclub 1947 Beilngries e.V.
REFRESH-INTERVAL;VALUE=DURATION:PT1H
X-Robots-Tag:noindex
X-PUBLISHED-TTL:PT1H
BEGIN:VTIMEZONE
TZID:Europe/Paris
BEGIN:DAYLIGHT
TZOFFSETFROM:+0100
TZOFFSETTO:+0200
TZNAME:CEST
DTSTART:20220327T010000
END:DAYLIGHT
BEGIN:STANDARD
TZOFFSETFROM:+0200
TZOFFSETTO:+0100
TZNAME:CET
DTSTART:20221030T010000
END:STANDARD
BEGIN:DAYLIGHT
TZOFFSETFROM:+0100
TZOFFSETTO:+0200
TZNAME:CEST
DTSTART:20230326T010000
END:DAYLIGHT
BEGIN:STANDARD
TZOFFSETFROM:+0200
TZOFFSETTO:+0100
TZNAME:CET
DTSTART:20231029T010000
END:STANDARD
BEGIN:DAYLIGHT
TZOFFSETFROM:+0100
TZOFFSETTO:+0200
TZNAME:CEST
DTSTART:20240331T010000
END:DAYLIGHT
BEGIN:STANDARD
TZOFFSETFROM:+0200
TZOFFSETTO:+0100
TZNAME:CET
DTSTART:20241027T010000
END:STANDARD
END:VTIMEZONE
BEGIN:VEVENT
DTSTART;TZID=Europe/Paris:20230707T160000
DTEND;TZID=Europe/Paris:20230707T180000
DTSTAMP:20260424T100253
CREATED:20230522T050100Z
LAST-MODIFIED:20230522T050100Z
UID:2567-1688745600-1688752800@schachclub-beilngries.de
SUMMARY:Jugendtraining in drei Gruppen
DESCRIPTION:
URL:http://schachclub-beilngries.de/veranstaltung/jugendtraining-in-drei-gruppen/
END:VEVENT
BEGIN:VEVENT
DTSTART;TZID=Europe/Paris:20230707T200000
DTEND;TZID=Europe/Paris:20230707T233000
DTSTAMP:20260424T100253
CREATED:20230220T081019Z
LAST-MODIFIED:20230220T081019Z
UID:2430-1688760000-1688772600@schachclub-beilngries.de
SUMMARY:Monatsblitz
DESCRIPTION:
URL:http://schachclub-beilngries.de/veranstaltung/monatsblitz-6/
END:VEVENT
BEGIN:VEVENT
DTSTART;TZID=Europe/Paris:20230714T160000
DTEND;TZID=Europe/Paris:20230714T180000
DTSTAMP:20260424T100253
CREATED:20230522T050130Z
LAST-MODIFIED:20230522T050237Z
UID:2569-1689350400-1689357600@schachclub-beilngries.de
SUMMARY:Jugendtraining in drei Gruppen
DESCRIPTION:
URL:http://schachclub-beilngries.de/veranstaltung/jugendtraining-in-drei-gruppen-2/
END:VEVENT
BEGIN:VEVENT
DTSTART;TZID=Europe/Paris:20230714T200000
DTEND;TZID=Europe/Paris:20230714T233000
DTSTAMP:20260424T100253
CREATED:20230220T081123Z
LAST-MODIFIED:20230220T081123Z
UID:2432-1689364800-1689377400@schachclub-beilngries.de
SUMMARY:Schnellschach
DESCRIPTION:
URL:http://schachclub-beilngries.de/veranstaltung/schnellschach/
END:VEVENT
BEGIN:VEVENT
DTSTART;TZID=Europe/Paris:20230721T180000
DTEND;TZID=Europe/Paris:20230721T233000
DTSTAMP:20260424T100253
CREATED:20230220T081201Z
LAST-MODIFIED:20230706T051045Z
UID:2434-1689962400-1689982200@schachclub-beilngries.de
SUMMARY:Griellferst bei Reimund Kirsch
DESCRIPTION:
URL:http://schachclub-beilngries.de/veranstaltung/schnellschach-2/
END:VEVENT
BEGIN:VEVENT
DTSTART;TZID=Europe/Paris:20230728T200000
DTEND;TZID=Europe/Paris:20230728T233000
DTSTAMP:20260424T100253
CREATED:20230706T051308Z
LAST-MODIFIED:20230706T051308Z
UID:2627-1690574400-1690587000@schachclub-beilngries.de
SUMMARY:Restpartiene Vereinsmeisterschaft
DESCRIPTION:
URL:http://schachclub-beilngries.de/veranstaltung/restpartiene-vereinsmeisterschaft/
END:VEVENT
END:VCALENDAR