BEGIN:VCALENDAR
VERSION:2.0
PRODID:-//Schachclub 1947 Beilngries e.V. - ECPv6.15.20//NONSGML v1.0//EN
CALSCALE:GREGORIAN
METHOD:PUBLISH
X-ORIGINAL-URL:http://schachclub-beilngries.de
X-WR-CALDESC:Veranstaltungen für Schachclub 1947 Beilngries e.V.
REFRESH-INTERVAL;VALUE=DURATION:PT1H
X-Robots-Tag:noindex
X-PUBLISHED-TTL:PT1H
BEGIN:VTIMEZONE
TZID:Europe/Paris
BEGIN:DAYLIGHT
TZOFFSETFROM:+0100
TZOFFSETTO:+0200
TZNAME:CEST
DTSTART:20220327T010000
END:DAYLIGHT
BEGIN:STANDARD
TZOFFSETFROM:+0200
TZOFFSETTO:+0100
TZNAME:CET
DTSTART:20221030T010000
END:STANDARD
BEGIN:DAYLIGHT
TZOFFSETFROM:+0100
TZOFFSETTO:+0200
TZNAME:CEST
DTSTART:20230326T010000
END:DAYLIGHT
BEGIN:STANDARD
TZOFFSETFROM:+0200
TZOFFSETTO:+0100
TZNAME:CET
DTSTART:20231029T010000
END:STANDARD
BEGIN:DAYLIGHT
TZOFFSETFROM:+0100
TZOFFSETTO:+0200
TZNAME:CEST
DTSTART:20240331T010000
END:DAYLIGHT
BEGIN:STANDARD
TZOFFSETFROM:+0200
TZOFFSETTO:+0100
TZNAME:CET
DTSTART:20241027T010000
END:STANDARD
END:VTIMEZONE
BEGIN:VEVENT
DTSTART;TZID=Europe/Paris:20230602T160000
DTEND;TZID=Europe/Paris:20230602T180000
DTSTAMP:20260424T114952
CREATED:20230522T045702Z
LAST-MODIFIED:20230522T045702Z
UID:2557-1685721600-1685728800@schachclub-beilngries.de
SUMMARY:Kein Jugendschach
DESCRIPTION:
URL:http://schachclub-beilngries.de/veranstaltung/kein-jugendschach-2/
END:VEVENT
BEGIN:VEVENT
DTSTART;TZID=Europe/Paris:20230609T160000
DTEND;TZID=Europe/Paris:20230609T180000
DTSTAMP:20260424T114952
CREATED:20230522T045740Z
LAST-MODIFIED:20230522T045740Z
UID:2559-1686326400-1686333600@schachclub-beilngries.de
SUMMARY:Kein Jugendschach
DESCRIPTION:
URL:http://schachclub-beilngries.de/veranstaltung/kein-jugendschach-3/
END:VEVENT
BEGIN:VEVENT
DTSTART;TZID=Europe/Paris:20230616T160000
DTEND;TZID=Europe/Paris:20230616T180000
DTSTAMP:20260424T114952
CREATED:20230522T045838Z
LAST-MODIFIED:20230522T045838Z
UID:2561-1686931200-1686938400@schachclub-beilngries.de
SUMMARY:Jugendvereinsmeisterschaft
DESCRIPTION:
URL:http://schachclub-beilngries.de/veranstaltung/jugendvereinsmeisterschaft/
END:VEVENT
BEGIN:VEVENT
DTSTART;TZID=Europe/Paris:20230616T200000
DTEND;TZID=Europe/Paris:20230616T233000
DTSTAMP:20260424T114952
CREATED:20230220T080315Z
LAST-MODIFIED:20230220T080315Z
UID:2416-1686945600-1686958200@schachclub-beilngries.de
SUMMARY:Vereinsmeisterschaft
DESCRIPTION:
URL:http://schachclub-beilngries.de/veranstaltung/vereinsmeisterschaft-8/
END:VEVENT
BEGIN:VEVENT
DTSTART;TZID=Europe/Paris:20230623T160000
DTEND;TZID=Europe/Paris:20230623T180000
DTSTAMP:20260424T114952
CREATED:20230522T045908Z
LAST-MODIFIED:20230522T045908Z
UID:2563-1687536000-1687543200@schachclub-beilngries.de
SUMMARY:Jugendvereinsmeisterschaft
DESCRIPTION:
URL:http://schachclub-beilngries.de/veranstaltung/jugendvereinsmeisterschaft-2/
END:VEVENT
BEGIN:VEVENT
DTSTART;TZID=Europe/Paris:20230623T200000
DTEND;TZID=Europe/Paris:20230623T233000
DTSTAMP:20260424T114952
CREATED:20230220T080940Z
LAST-MODIFIED:20230220T080940Z
UID:2428-1687550400-1687563000@schachclub-beilngries.de
SUMMARY:Monatsblitz
DESCRIPTION:
URL:http://schachclub-beilngries.de/veranstaltung/monatsblitz-5/
END:VEVENT
BEGIN:VEVENT
DTSTART;TZID=Europe/Paris:20230625T090000
DTEND;TZID=Europe/Paris:20230625T170000
DTSTAMP:20260424T114952
CREATED:20230519T061650Z
LAST-MODIFIED:20230519T061759Z
UID:2553-1687683600-1687712400@schachclub-beilngries.de
SUMMARY:Beilngrieser Schnellschachopen 2023
DESCRIPTION:
URL:http://schachclub-beilngries.de/veranstaltung/beilngrieser-schnellschachopen-2023/
END:VEVENT
BEGIN:VEVENT
DTSTART;TZID=Europe/Paris:20230630T160000
DTEND;TZID=Europe/Paris:20230630T180000
DTSTAMP:20260424T114952
CREATED:20230522T045940Z
LAST-MODIFIED:20230522T045940Z
UID:2565-1688140800-1688148000@schachclub-beilngries.de
SUMMARY:Jugendvereinsmeisterschaft
DESCRIPTION:
URL:http://schachclub-beilngries.de/veranstaltung/jugendvereinsmeisterschaft-3/
END:VEVENT
BEGIN:VEVENT
DTSTART;TZID=Europe/Paris:20230630T200000
DTEND;TZID=Europe/Paris:20230630T233000
DTSTAMP:20260424T114952
CREATED:20230220T080358Z
LAST-MODIFIED:20230220T080358Z
UID:2418-1688155200-1688167800@schachclub-beilngries.de
SUMMARY:Vereinsmeisterschaft
DESCRIPTION:
URL:http://schachclub-beilngries.de/veranstaltung/vereinsmeisterschaft-9/
END:VEVENT
END:VCALENDAR