BEGIN:VCALENDAR
VERSION:2.0
PRODID:-//Schachclub 1947 Beilngries e.V. - ECPv6.15.20//NONSGML v1.0//EN
CALSCALE:GREGORIAN
METHOD:PUBLISH
X-ORIGINAL-URL:http://schachclub-beilngries.de
X-WR-CALDESC:Veranstaltungen für Schachclub 1947 Beilngries e.V.
REFRESH-INTERVAL;VALUE=DURATION:PT1H
X-Robots-Tag:noindex
X-PUBLISHED-TTL:PT1H
BEGIN:VTIMEZONE
TZID:Europe/Paris
BEGIN:DAYLIGHT
TZOFFSETFROM:+0100
TZOFFSETTO:+0200
TZNAME:CEST
DTSTART:20220327T010000
END:DAYLIGHT
BEGIN:STANDARD
TZOFFSETFROM:+0200
TZOFFSETTO:+0100
TZNAME:CET
DTSTART:20221030T010000
END:STANDARD
BEGIN:DAYLIGHT
TZOFFSETFROM:+0100
TZOFFSETTO:+0200
TZNAME:CEST
DTSTART:20230326T010000
END:DAYLIGHT
BEGIN:STANDARD
TZOFFSETFROM:+0200
TZOFFSETTO:+0100
TZNAME:CET
DTSTART:20231029T010000
END:STANDARD
BEGIN:DAYLIGHT
TZOFFSETFROM:+0100
TZOFFSETTO:+0200
TZNAME:CEST
DTSTART:20240331T010000
END:DAYLIGHT
BEGIN:STANDARD
TZOFFSETFROM:+0200
TZOFFSETTO:+0100
TZNAME:CET
DTSTART:20241027T010000
END:STANDARD
END:VTIMEZONE
BEGIN:VEVENT
DTSTART;TZID=Europe/Paris:20230505T160000
DTEND;TZID=Europe/Paris:20230505T190000
DTSTAMP:20260424T134119
CREATED:20230220T075523Z
LAST-MODIFIED:20230220T075523Z
UID:2400-1683302400-1683313200@schachclub-beilngries.de
SUMMARY:Jugendtraining
DESCRIPTION:
URL:http://schachclub-beilngries.de/veranstaltung/jugendtraining-63/
END:VEVENT
BEGIN:VEVENT
DTSTART;TZID=Europe/Paris:20230505T200000
DTEND;TZID=Europe/Paris:20230505T233000
DTSTAMP:20260424T134119
CREATED:20230220T080118Z
LAST-MODIFIED:20230220T080118Z
UID:2410-1683316800-1683329400@schachclub-beilngries.de
SUMMARY:Vereinsmeisterschaft
DESCRIPTION:
URL:http://schachclub-beilngries.de/veranstaltung/vereinsmeisterschaft-5/
END:VEVENT
BEGIN:VEVENT
DTSTART;TZID=Europe/Paris:20230512T200000
DTEND;TZID=Europe/Paris:20230512T233000
DTSTAMP:20260424T134119
CREATED:20230220T080853Z
LAST-MODIFIED:20230220T080853Z
UID:2426-1683921600-1683934200@schachclub-beilngries.de
SUMMARY:Monatsblitz
DESCRIPTION:
URL:http://schachclub-beilngries.de/veranstaltung/monatsblitz-4/
END:VEVENT
BEGIN:VEVENT
DTSTART;TZID=Europe/Paris:20230519T200000
DTEND;TZID=Europe/Paris:20230519T233000
DTSTAMP:20260424T134119
CREATED:20230220T080203Z
LAST-MODIFIED:20230220T080203Z
UID:2412-1684526400-1684539000@schachclub-beilngries.de
SUMMARY:Vereinsmeisterschaft
DESCRIPTION:
URL:http://schachclub-beilngries.de/veranstaltung/vereinsmeisterschaft-6/
END:VEVENT
BEGIN:VEVENT
DTSTART;TZID=Europe/Paris:20230526T160000
DTEND;TZID=Europe/Paris:20230526T180000
DTSTAMP:20260424T134119
CREATED:20230522T045538Z
LAST-MODIFIED:20230522T045615Z
UID:2555-1685116800-1685124000@schachclub-beilngries.de
SUMMARY:Kein Jugendschach
DESCRIPTION:
URL:http://schachclub-beilngries.de/veranstaltung/kein-jugendschach/
END:VEVENT
BEGIN:VEVENT
DTSTART;TZID=Europe/Paris:20230526T200000
DTEND;TZID=Europe/Paris:20230526T233000
DTSTAMP:20260424T134119
CREATED:20230220T080234Z
LAST-MODIFIED:20230220T080234Z
UID:2414-1685131200-1685143800@schachclub-beilngries.de
SUMMARY:Vereinsmeisterschaft
DESCRIPTION:
URL:http://schachclub-beilngries.de/veranstaltung/vereinsmeisterschaft-7/
END:VEVENT
END:VCALENDAR