BEGIN:VCALENDAR
VERSION:2.0
PRODID:-//Schachclub 1947 Beilngries e.V. - ECPv6.15.20//NONSGML v1.0//EN
CALSCALE:GREGORIAN
METHOD:PUBLISH
X-ORIGINAL-URL:http://schachclub-beilngries.de
X-WR-CALDESC:Veranstaltungen für Schachclub 1947 Beilngries e.V.
REFRESH-INTERVAL;VALUE=DURATION:PT1H
X-Robots-Tag:noindex
X-PUBLISHED-TTL:PT1H
BEGIN:VTIMEZONE
TZID:Europe/Paris
BEGIN:DAYLIGHT
TZOFFSETFROM:+0100
TZOFFSETTO:+0200
TZNAME:CEST
DTSTART:20220327T010000
END:DAYLIGHT
BEGIN:STANDARD
TZOFFSETFROM:+0200
TZOFFSETTO:+0100
TZNAME:CET
DTSTART:20221030T010000
END:STANDARD
BEGIN:DAYLIGHT
TZOFFSETFROM:+0100
TZOFFSETTO:+0200
TZNAME:CEST
DTSTART:20230326T010000
END:DAYLIGHT
BEGIN:STANDARD
TZOFFSETFROM:+0200
TZOFFSETTO:+0100
TZNAME:CET
DTSTART:20231029T010000
END:STANDARD
BEGIN:DAYLIGHT
TZOFFSETFROM:+0100
TZOFFSETTO:+0200
TZNAME:CEST
DTSTART:20240331T010000
END:DAYLIGHT
BEGIN:STANDARD
TZOFFSETFROM:+0200
TZOFFSETTO:+0100
TZNAME:CET
DTSTART:20241027T010000
END:STANDARD
END:VTIMEZONE
BEGIN:VEVENT
DTSTART;TZID=Europe/Paris:20230113T160000
DTEND;TZID=Europe/Paris:20230113T180000
DTSTAMP:20260424T200308
CREATED:20221123T063553Z
LAST-MODIFIED:20221123T063553Z
UID:2194-1673625600-1673632800@schachclub-beilngries.de
SUMMARY:Jugendtraining
DESCRIPTION:
URL:http://schachclub-beilngries.de/veranstaltung/jugendtraining-48/
END:VEVENT
BEGIN:VEVENT
DTSTART;TZID=Europe/Paris:20230113T200000
DTEND;TZID=Europe/Paris:20230113T200000
DTSTAMP:20260424T200308
CREATED:20230110T103823Z
LAST-MODIFIED:20230110T103823Z
UID:2313-1673640000-1673640000@schachclub-beilngries.de
SUMMARY:5. Monatsblitzturnier
DESCRIPTION:
URL:http://schachclub-beilngries.de/veranstaltung/5-monatsblitzturnier/
END:VEVENT
BEGIN:VEVENT
DTSTART;TZID=Europe/Paris:20230115T080000
DTEND;TZID=Europe/Paris:20230115T140000
DTSTAMP:20260424T200308
CREATED:20220920T063706Z
LAST-MODIFIED:20220920T063706Z
UID:2099-1673769600-1673791200@schachclub-beilngries.de
SUMMARY:SV Wettstetten e.V. (6er)	-	SC 1947 Beilngries 2
DESCRIPTION:
URL:http://schachclub-beilngries.de/veranstaltung/sv-wettstetten-e-v-6er-sc-1947-beilngries-2/
END:VEVENT
BEGIN:VEVENT
DTSTART;TZID=Europe/Paris:20230115T090000
DTEND;TZID=Europe/Paris:20230115T140000
DTSTAMP:20260424T200308
CREATED:20220920T062834Z
LAST-MODIFIED:20220920T062834Z
UID:2083-1673773200-1673791200@schachclub-beilngries.de
SUMMARY:SC 1947 Beilngries	-	SK Abensberg
DESCRIPTION:
URL:http://schachclub-beilngries.de/veranstaltung/sc-1947-beilngries-sk-abensberg/
END:VEVENT
BEGIN:VEVENT
DTSTART;TZID=Europe/Paris:20230120T160000
DTEND;TZID=Europe/Paris:20230120T180000
DTSTAMP:20260424T200308
CREATED:20221123T063503Z
LAST-MODIFIED:20221123T063503Z
UID:2192-1674230400-1674237600@schachclub-beilngries.de
SUMMARY:Jugendtraining
DESCRIPTION:
URL:http://schachclub-beilngries.de/veranstaltung/jugendtraining-47/
END:VEVENT
BEGIN:VEVENT
DTSTART;TZID=Europe/Paris:20230120T200000
DTEND;TZID=Europe/Paris:20230120T233000
DTSTAMP:20260424T200308
CREATED:20230118T074458Z
LAST-MODIFIED:20230118T074458Z
UID:2324-1674244800-1674257400@schachclub-beilngries.de
SUMMARY:Nachholpartien der 4. Runde der Stadtmeisterschaft
DESCRIPTION:
URL:http://schachclub-beilngries.de/veranstaltung/nachholpartien-der-4-runde-der-stadtmeisterschaft/
END:VEVENT
BEGIN:VEVENT
DTSTART;TZID=Europe/Paris:20230127T160000
DTEND;TZID=Europe/Paris:20230127T180000
DTSTAMP:20260424T200308
CREATED:20221123T063344Z
LAST-MODIFIED:20221123T063344Z
UID:2190-1674835200-1674842400@schachclub-beilngries.de
SUMMARY:Jugendtraining
DESCRIPTION:
URL:http://schachclub-beilngries.de/veranstaltung/jugendtraining-46/
END:VEVENT
BEGIN:VEVENT
DTSTART;TZID=Europe/Paris:20230127T193000
DTEND;TZID=Europe/Paris:20230127T223000
DTSTAMP:20260424T200308
CREATED:20230113T065634Z
LAST-MODIFIED:20230113T065634Z
UID:2317-1674847800-1674858600@schachclub-beilngries.de
SUMMARY:Jahreshauptversammlung 2023
DESCRIPTION:
URL:http://schachclub-beilngries.de/veranstaltung/jahreshauptversammlung-2023/
END:VEVENT
END:VCALENDAR