BEGIN:VCALENDAR
VERSION:2.0
PRODID:-//Schachclub 1947 Beilngries e.V. - ECPv6.15.20//NONSGML v1.0//EN
CALSCALE:GREGORIAN
METHOD:PUBLISH
X-ORIGINAL-URL:http://schachclub-beilngries.de
X-WR-CALDESC:Veranstaltungen für Schachclub 1947 Beilngries e.V.
REFRESH-INTERVAL;VALUE=DURATION:PT1H
X-Robots-Tag:noindex
X-PUBLISHED-TTL:PT1H
BEGIN:VTIMEZONE
TZID:Europe/Paris
BEGIN:DAYLIGHT
TZOFFSETFROM:+0100
TZOFFSETTO:+0200
TZNAME:CEST
DTSTART:20210328T010000
END:DAYLIGHT
BEGIN:STANDARD
TZOFFSETFROM:+0200
TZOFFSETTO:+0100
TZNAME:CET
DTSTART:20211031T010000
END:STANDARD
BEGIN:DAYLIGHT
TZOFFSETFROM:+0100
TZOFFSETTO:+0200
TZNAME:CEST
DTSTART:20220327T010000
END:DAYLIGHT
BEGIN:STANDARD
TZOFFSETFROM:+0200
TZOFFSETTO:+0100
TZNAME:CET
DTSTART:20221030T010000
END:STANDARD
BEGIN:DAYLIGHT
TZOFFSETFROM:+0100
TZOFFSETTO:+0200
TZNAME:CEST
DTSTART:20230326T010000
END:DAYLIGHT
BEGIN:STANDARD
TZOFFSETFROM:+0200
TZOFFSETTO:+0100
TZNAME:CET
DTSTART:20231029T010000
END:STANDARD
END:VTIMEZONE
BEGIN:VEVENT
DTSTART;TZID=Europe/Paris:20221202T160000
DTEND;TZID=Europe/Paris:20221202T180000
DTSTAMP:20260424T215002
CREATED:20221123T063753Z
LAST-MODIFIED:20221123T063753Z
UID:2200-1669996800-1670004000@schachclub-beilngries.de
SUMMARY:Jugendtraining
DESCRIPTION:
URL:http://schachclub-beilngries.de/veranstaltung/jugendtraining-51/
END:VEVENT
BEGIN:VEVENT
DTSTART;TZID=Europe/Paris:20221202T200000
DTEND;TZID=Europe/Paris:20221202T233000
DTSTAMP:20260424T215002
CREATED:20221129T072850Z
LAST-MODIFIED:20221129T072850Z
UID:2280-1670011200-1670023800@schachclub-beilngries.de
SUMMARY:4. Monatsblitzturnier (Dezember)
DESCRIPTION:
URL:http://schachclub-beilngries.de/veranstaltung/4-monatsblitzturnier-dezember/
END:VEVENT
BEGIN:VEVENT
DTSTART;TZID=Europe/Paris:20221209T160000
DTEND;TZID=Europe/Paris:20221209T180000
DTSTAMP:20260424T215002
CREATED:20221123T063712Z
LAST-MODIFIED:20221123T063712Z
UID:2198-1670601600-1670608800@schachclub-beilngries.de
SUMMARY:Jugendtraining
DESCRIPTION:
URL:http://schachclub-beilngries.de/veranstaltung/jugendtraining-50/
END:VEVENT
BEGIN:VEVENT
DTSTART;TZID=Europe/Paris:20221209T200000
DTEND;TZID=Europe/Paris:20221209T233000
DTSTAMP:20260424T215002
CREATED:20221129T072944Z
LAST-MODIFIED:20221129T072944Z
UID:2282-1670616000-1670628600@schachclub-beilngries.de
SUMMARY:4. Runde der Stadtmeisterschaft
DESCRIPTION:
URL:http://schachclub-beilngries.de/veranstaltung/4-runde-der-stadtmeisterschaft/
END:VEVENT
BEGIN:VEVENT
DTSTART;TZID=Europe/Paris:20221211T073000
DTEND;TZID=Europe/Paris:20221211T140000
DTSTAMP:20260424T215002
CREATED:20220920T062741Z
LAST-MODIFIED:20220920T062741Z
UID:2081-1670743800-1670767200@schachclub-beilngries.de
SUMMARY:SC Moosburg 1956 e.V. 2	-	SC 1947 Beilngries
DESCRIPTION:
URL:http://schachclub-beilngries.de/veranstaltung/sc-moosburg-1956-e-v-2-sc-1947-beilngries/
END:VEVENT
BEGIN:VEVENT
DTSTART;TZID=Europe/Paris:20221211T090000
DTEND;TZID=Europe/Paris:20221211T140000
DTSTAMP:20260424T215002
CREATED:20220920T063622Z
LAST-MODIFIED:20220920T063622Z
UID:2097-1670749200-1670767200@schachclub-beilngries.de
SUMMARY:SC 1947 Beilngries 2	-	SV Weichering
DESCRIPTION:
URL:http://schachclub-beilngries.de/veranstaltung/sc-1947-beilngries-2-sv-weichering/
END:VEVENT
BEGIN:VEVENT
DTSTART;TZID=Europe/Paris:20221216T160000
DTEND;TZID=Europe/Paris:20221216T180000
DTSTAMP:20260424T215002
CREATED:20221123T063637Z
LAST-MODIFIED:20221123T063637Z
UID:2196-1671206400-1671213600@schachclub-beilngries.de
SUMMARY:Jugendtraining
DESCRIPTION:
URL:http://schachclub-beilngries.de/veranstaltung/jugendtraining-49/
END:VEVENT
BEGIN:VEVENT
DTSTART;TZID=Europe/Paris:20221216T200000
DTEND;TZID=Europe/Paris:20221216T233000
DTSTAMP:20260424T215002
CREATED:20221212T092301Z
LAST-MODIFIED:20221212T092301Z
UID:2304-1671220800-1671233400@schachclub-beilngries.de
SUMMARY:Nachholspiele der 4 Runde der Stadtmeisterschaft
DESCRIPTION:
URL:http://schachclub-beilngries.de/veranstaltung/nachholspiele-der-4-runde-der-stadtmeisterschaft/
END:VEVENT
END:VCALENDAR