BEGIN:VCALENDAR
VERSION:2.0
PRODID:-//Schachclub 1947 Beilngries e.V. - ECPv6.15.20//NONSGML v1.0//EN
CALSCALE:GREGORIAN
METHOD:PUBLISH
X-WR-CALNAME:Schachclub 1947 Beilngries e.V.
X-ORIGINAL-URL:http://schachclub-beilngries.de
X-WR-CALDESC:Veranstaltungen für Schachclub 1947 Beilngries e.V.
REFRESH-INTERVAL;VALUE=DURATION:PT1H
X-Robots-Tag:noindex
X-PUBLISHED-TTL:PT1H
BEGIN:VTIMEZONE
TZID:Europe/Paris
BEGIN:DAYLIGHT
TZOFFSETFROM:+0100
TZOFFSETTO:+0200
TZNAME:CEST
DTSTART:20210328T010000
END:DAYLIGHT
BEGIN:STANDARD
TZOFFSETFROM:+0200
TZOFFSETTO:+0100
TZNAME:CET
DTSTART:20211031T010000
END:STANDARD
BEGIN:DAYLIGHT
TZOFFSETFROM:+0100
TZOFFSETTO:+0200
TZNAME:CEST
DTSTART:20220327T010000
END:DAYLIGHT
BEGIN:STANDARD
TZOFFSETFROM:+0200
TZOFFSETTO:+0100
TZNAME:CET
DTSTART:20221030T010000
END:STANDARD
BEGIN:DAYLIGHT
TZOFFSETFROM:+0100
TZOFFSETTO:+0200
TZNAME:CEST
DTSTART:20230326T010000
END:DAYLIGHT
BEGIN:STANDARD
TZOFFSETFROM:+0200
TZOFFSETTO:+0100
TZNAME:CET
DTSTART:20231029T010000
END:STANDARD
END:VTIMEZONE
BEGIN:VEVENT
DTSTART;TZID=Europe/Paris:20220701T160000
DTEND;TZID=Europe/Paris:20220701T190000
DTSTAMP:20260425T052509
CREATED:20220627T055658Z
LAST-MODIFIED:20220627T055658Z
UID:1980-1656691200-1656702000@schachclub-beilngries.de
SUMMARY:Jugend-Training
DESCRIPTION:
URL:http://schachclub-beilngries.de/veranstaltung/jugend-training-7/
END:VEVENT
BEGIN:VEVENT
DTSTART;TZID=Europe/Paris:20220701T160000
DTEND;TZID=Europe/Paris:20220701T190000
DTSTAMP:20260425T052509
CREATED:20220627T055918Z
LAST-MODIFIED:20220914T081843Z
UID:1988-1656691200-1656702000@schachclub-beilngries.de
SUMMARY:Jugend-Training
DESCRIPTION:
URL:http://schachclub-beilngries.de/veranstaltung/jugend-training-11/
END:VEVENT
BEGIN:VEVENT
DTSTART;TZID=Europe/Paris:20220701T200000
DTEND;TZID=Europe/Paris:20220701T233000
DTSTAMP:20260425T052509
CREATED:20220622T053019Z
LAST-MODIFIED:20220622T053019Z
UID:1976-1656705600-1656718200@schachclub-beilngries.de
SUMMARY:8. Monatsblitz
DESCRIPTION:
URL:http://schachclub-beilngries.de/veranstaltung/8-monatsblitz/
END:VEVENT
BEGIN:VEVENT
DTSTART;TZID=Europe/Paris:20220708T160000
DTEND;TZID=Europe/Paris:20220708T190000
DTSTAMP:20260425T052509
CREATED:20220627T055730Z
LAST-MODIFIED:20220627T055730Z
UID:1982-1657296000-1657306800@schachclub-beilngries.de
SUMMARY:Jugend-Training
DESCRIPTION:
URL:http://schachclub-beilngries.de/veranstaltung/jugend-training-8/
END:VEVENT
BEGIN:VEVENT
DTSTART;TZID=Europe/Paris:20220708T200000
DTEND;TZID=Europe/Paris:20220708T233000
DTSTAMP:20260425T052509
CREATED:20220622T052925Z
LAST-MODIFIED:20220622T052925Z
UID:1974-1657310400-1657323000@schachclub-beilngries.de
SUMMARY:4. Schnellschachturnier
DESCRIPTION:
URL:http://schachclub-beilngries.de/veranstaltung/4-schnellschachturnier/
END:VEVENT
BEGIN:VEVENT
DTSTART;TZID=Europe/Paris:20220715T160000
DTEND;TZID=Europe/Paris:20220715T190000
DTSTAMP:20260425T052509
CREATED:20220627T055802Z
LAST-MODIFIED:20220627T055802Z
UID:1984-1657900800-1657911600@schachclub-beilngries.de
SUMMARY:Jugend-Training
DESCRIPTION:
URL:http://schachclub-beilngries.de/veranstaltung/jugend-training-9/
END:VEVENT
BEGIN:VEVENT
DTSTART;TZID=Europe/Paris:20220722T160000
DTEND;TZID=Europe/Paris:20220722T190000
DTSTAMP:20260425T052509
CREATED:20220627T055837Z
LAST-MODIFIED:20220627T055837Z
UID:1986-1658505600-1658516400@schachclub-beilngries.de
SUMMARY:Jugend-Training
DESCRIPTION:
URL:http://schachclub-beilngries.de/veranstaltung/jugend-training-10/
END:VEVENT
END:VCALENDAR